BEGIN:VCALENDAR
VERSION:2.0
PRODID:-//ChamberMaster//Event Calendar 2.0//EN
METHOD:PUBLISH
X-PUBLISHED-TTL:P3D
REFRESH-INTERVAL:P3D
CALSCALE:GREGORIAN
BEGIN:VEVENT
DTSTART;VALUE=DATE:20170801
DTEND;VALUE=DATE:20170816
TRANSP:TRANSPARENT
X-MICROSOFT-CDO-ALLDAYEVENT:TRUE
SUMMARY:School Supplies Drive - David Weekley Homes in Reagan Pointe
DESCRIPTION:Help local students pack up for a successful school year!  As part of our CARE program\, David Weekley Homes is hosting our CARE school supplies drive benefitting A Gift For Teaching in Orlando.  Show that you CARE and donate the following item between August 1 - 15: Packages of loose-leaf paper.  By joining together we can make a significant impact in our communities through the David Weekley Homes CARE program which we define as:\n\nC - Committed to building community character\n\nA+ - Active in our community\n\nR - Responsible to our community\n\nE - Enhancing our community
X-ALT-DESC;FMTTYPE=text/html:Help local students pack up for a successful school year!&nbsp\; As part of our CARE program\, David Weekley Homes is hosting our CARE school supplies drive benefitting A Gift For Teaching in Orlando.&nbsp\; Show that you CARE and donate the following item between August 1 - 15: Packages of loose-leaf paper.&nbsp\; By joining together we can make a significant impact in our communities through&nbsp\;the David Weekley Homes CARE program which we define as:<br />\nC - Committed to building community character<br />\nA+ - Active in our community<br />\nR - Responsible to our community<br />\nE - Enhancing our community
LOCATION:David Weekley Homes in Reagan Pointe 4960 N. Ronald Reagan Blvd. Sanford\, FL 32773
UID:e.2138.7789
SEQUENCE:3
DTSTAMP:20260424T013843Z
URL:https://business.seminolebusiness.org/events/details/school-supplies-drive-david-weekley-homes-in-reagan-pointe-7789
END:VEVENT

END:VCALENDAR
