BEGIN:VCALENDAR
VERSION:2.0
PRODID:-//ChamberMaster//Event Calendar 2.0//EN
METHOD:PUBLISH
X-PUBLISHED-TTL:P3D
REFRESH-INTERVAL:P3D
CALSCALE:GREGORIAN
BEGIN:VEVENT
DTSTART:20160709T153000Z
DTEND:20160709T180000Z
X-MICROSOFT-CDO-ALLDAYEVENT:FALSE
SUMMARY:Scout Day at RDV Sportsplex Ice Den
DESCRIPTION:All Scouts are invited to participate in our Scout Day! Participants will enjoy an educational presentation\, pizza lunch\, and group lesson with our instructors. Scouts will earn a fun RDV patch and can stay for the public skating session (included with purchase).
X-ALT-DESC;FMTTYPE=text/html:<span style="color:#1F497D"><span style="font-family:calibri\,sans-serif"><span style="font-size:11.0pt">All Scouts are invited to participate in our Scout Day! Participants will enjoy an educational presentation\, pizza lunch\, and group lesson with our instructors. Scouts will earn a fun RDV patch and can stay for the public skating session (included with purchase).</span></span></span>
LOCATION:RDV Sportsplex Ice Den - 8701 Maitland Summit Blvd. Orlando\, FL 32810
UID:e.2138.4532
SEQUENCE:3
DTSTAMP:20260425T211106Z
URL:https://business.seminolebusiness.org/events/details/scout-day-at-rdv-sportsplex-ice-den-07-09-2016-4532
END:VEVENT

END:VCALENDAR
