BEGIN:VCALENDAR
VERSION:2.0
PRODID:-//ChamberMaster//Event Calendar 2.0//EN
METHOD:PUBLISH
X-PUBLISHED-TTL:P3D
REFRESH-INTERVAL:P3D
CALSCALE:GREGORIAN
BEGIN:VEVENT
DTSTART:20170513T140000Z
DTEND:20170513T154500Z
X-MICROSOFT-CDO-ALLDAYEVENT:FALSE
SUMMARY:Scout Day at RDV Sportsplex Ice Den
DESCRIPTION:All scouts are invited to our first Scout Day of 2017 at RDV Sportsplex Ice Den! Participants will learn about the Ice Den\, the different types of skates\, how we keep our ice cold\, and how our resurfacing machine works. Then participants will enjoy a private on-ice lesson with our coaches and will earn a special RDV patch!
X-ALT-DESC;FMTTYPE=text/html:All scouts are invited to our first Scout Day of 2017 at RDV Sportsplex Ice Den! Participants will learn about the Ice Den\, the different types of skates\, how we keep our ice cold\, and how our resurfacing machine works. Then participants will enjoy a private on-ice lesson with our coaches and will earn a special RDV patch!&nbsp\;
LOCATION:RDV Sportsplex Ice Den 8701 Maitland Summit Blvd. Orlando\, FL 32810
UID:e.2138.6708
SEQUENCE:3
DTSTAMP:20260423T210803Z
URL:https://business.seminolebusiness.org/events/details/scout-day-at-rdv-sportsplex-ice-den-6708
END:VEVENT

END:VCALENDAR
