BEGIN:VCALENDAR
VERSION:2.0
PRODID:-//ChamberMaster//Event Calendar 2.0//EN
METHOD:PUBLISH
X-PUBLISHED-TTL:P3D
REFRESH-INTERVAL:P3D
CALSCALE:GREGORIAN
BEGIN:VEVENT
DTSTART:20170303T223000Z
DTEND:20170304T013000Z
X-MICROSOFT-CDO-ALLDAYEVENT:FALSE
SUMMARY:SCPS 2018 Teacher of the Year Celebration "Night of the Stars"
DESCRIPTION:On Friday\, March 3\, 2017\, The Foundation for Seminole County Public Schools proudly introduces the SCPS 2018 Teacher of the Year\, presented by CFE Federal Credit Union. The event highlights all 63 Teachers of the Year throughout the district which includes the three finalists from each school level. The district-wide Teacher of the Year is announced and will go on to represent SCPS for the State of Florida's Teacher of the Year.\n\nIt takes the support from businesses and the community to keep our premiere school district going strong! If you are interested in sponsoring the 2018 Teacher of the Year Celebration\, please register today or contact us at 407-320-0196 or Foundation@scps.us. The event audience is comprised of 300+ Teachers of the Year and their spouses\, school principals\, SCPS executives\, school board members and event sponsors.\n\nEvery teacher in the room is a winner! We honor them with a bag full of treats from our generous community. If you are interested in donating a door prize ($50 restaurant or retail gift card) or smaller items for their goody bags   63 needed (high quality item)   please contact us at 407-320-0196 and deliver items to us by February 22\, 2017.\n\nIf you have any questions regarding sponsorship or supporting the event\, please contact The Foundation at 407-320-0196 or Foundation@scps.us.
X-ALT-DESC;FMTTYPE=text/html:<p>On Friday\, March 3\, 2017\, The Foundation for Seminole County Public Schools proudly introduces the SCPS 2018 Teacher of the Year\, presented by CFE Federal Credit Union. The event highlights all 63 Teachers of the Year throughout the district which includes the three finalists from each school level. The district-wide Teacher of the Year is announced and will go on to represent SCPS for the State of Florida&rsquo\;s Teacher of the Year.</p>\n\n<p>It takes the support from businesses and the community to keep our&nbsp\;premiere school district going strong! If you are interested in sponsoring the 2018 Teacher of the Year Celebration\, please <a href="http://foundationscps.org/events/2017-teacher-of-the-year-celebration-presented-by-cfe-federal-credit-union/">register today</a> or contact us at 407-320-0196 or Foundation@scps.us. The event audience is comprised of 300+ Teachers of the Year and their spouses\, school principals\, SCPS executives\, school board members and event sponsors.</p>\n\n<p>Every teacher in the room is a winner! We honor them with a bag full of treats from our generous community. If you are interested in donating a door prize ($50 restaurant or retail gift card) or smaller items for their goody bags &ndash\; 63 needed (high quality item) &ndash\;&nbsp\;please contact us at 407-320-0196&nbsp\;and&nbsp\;deliver items&nbsp\;to us by&nbsp\;February 22\, 2017.</p>\n\n<p>If you have any questions regarding sponsorship or supporting the event\, please contact The Foundation at 407-320-0196 or Foundation@scps.us.</p>\n
LOCATION:Westin Lake Mary 2974 International Parkway Lake Mary\, FL 32746
UID:e.2138.6423
SEQUENCE:3
DTSTAMP:20260423T181111Z
URL:https://business.seminolebusiness.org/events/details/scps-2018-teacher-of-the-year-celebration-night-of-the-stars-6423
END:VEVENT

END:VCALENDAR
