BEGIN:VCALENDAR
VERSION:2.0
PRODID:-//ChamberMaster//Event Calendar 2.0//EN
METHOD:PUBLISH
X-PUBLISHED-TTL:P3D
REFRESH-INTERVAL:P3D
CALSCALE:GREGORIAN
BEGIN:VEVENT
DTSTART;VALUE=DATE:20170216
DTEND;VALUE=DATE:20170217
TRANSP:TRANSPARENT
X-MICROSOFT-CDO-ALLDAYEVENT:TRUE
SUMMARY:SCPS ePathways Internship Expo – Businesses Wanted!
DESCRIPTION:SCPS is seeking business partners from a variety of industries to help high school students put their skills and talents to work in summer internships.\nePathways is excited to announce the spring Internship Expo on Tuesday\, April 11th at Noah's Event Center in Lake Mary.  We are expecting 500+ students to attend this event eager and ready to work this summer!  Internships can be paid or unpaid and require employers to provide 136 hours of in-depth industry work. Employers offer a variety of positions across industries including Business\, Construction\, Education\, Finance\, Government\, Healthcare\, Hospitality\, Information Technology\, Interior Design and more!\n\nInternships provide students with opportunities to apply their classroom learning to the workplace while also allowing students to explore aspects of industry that are not readily available to entry-level employees.\n\nShowcase your commitment by sponsoring the SCPS 2017 Internship and start developing tomorrow's workforce  today!\n\nInterested in offering an internship? Click here to fill out the Employer Interest form. All partners will have the opportunity to set up a free booth to promote their internship opportunity.
X-ALT-DESC;FMTTYPE=text/html:<br />\n<strong><a href="http://foundationscps.org/wp-content/uploads/2017/02/EPathways-Internship-Fair.jpg" style="border: 0px\; font-family: inherit\; font-style: inherit\; font-weight: inherit\; margin: 0px\; outline: 0px\; padding: 0px\; vertical-align: baseline\; color: rgb(201\, 37\, 58)\;">&#8203\;SCPS is seeking business partners from a variety of industries to help high school students put their skills and talents to work in summer internships.</a></strong>\n<p>ePathways is excited to announce the spring Internship Expo on Tuesday\, April 11th at Noah&rsquo\;s Event Center in Lake Mary.&nbsp\; We are expecting 500+ students to attend this event eager and ready to work this summer! &nbsp\;Internships can be paid or unpaid and require employers to provide 136 hours of in-depth industry work.&nbsp\;Employers offer a variety of positions across industries including Business\, Construction\, Education\, Finance\, Government\, Healthcare\, Hospitality\, Information Technology\, Interior Design and more!</p>\n\n<p>Internships provide students with opportunities to apply their classroom learning to the workplace while also allowing students to explore aspects of industry that are not readily available to entry-level employees.</p>\n\n<p><strong>Showcase your commitment by sponsoring the SCPS 2017 Internship and start developing tomorrow&rsquo\;s workforce&hellip\; today!</strong></p>\n\n<p><strong>Interested in offering an internship?</strong>&nbsp\;Click here to fill out the&nbsp\;<a href="https://docs.google.com/forms/d/e/1FAIpQLSe7VeOVKVMMqDd3ALQs4FHIWgvBptDo2dvRPMQ6F1LjUCXS3Q/viewform" style="border: 0px\; font-family: inherit\; font-style: inherit\; font-weight: inherit\; margin: 0px\; outline: 0px\; padding: 0px\; vertical-align: baseline\; color: rgb(229\, 27\, 36)\;" target="_blank">Employer Interest form</a>. All partners will have the opportunity to set up a free booth to promote their internship opportunity.</p>\n
LOCATION:Noah's Event Venue 720 Currency Circle Lake Mary\, FL 32746
UID:e.2138.6458
SEQUENCE:3
DTSTAMP:20260423T161955Z
URL:https://business.seminolebusiness.org/events/details/scps-epathways-internship-expo-businesses-wanted-6458
END:VEVENT

END:VCALENDAR
