BEGIN:VCALENDAR
VERSION:2.0
PRODID:-//ChamberMaster//Event Calendar 2.0//EN
METHOD:PUBLISH
X-PUBLISHED-TTL:P3D
REFRESH-INTERVAL:P3D
CALSCALE:GREGORIAN
BEGIN:VEVENT
DTSTART:20231010T210000Z
DTEND:20231010T230000Z
X-MICROSOFT-CDO-ALLDAYEVENT:FALSE
SUMMARY:SCPS/UF Community Math Night
DESCRIPTION:Join us for an educational night as Seminole County Public Schools and University of Florida Lastinger Center for Learning provide students\, families\, and community members with an empowering voice to transform the future of math education!\n\n\n\nThis event will feature interactive booths\, informational booths\, and a musical performance from Millennium Middle School students.
X-ALT-DESC;FMTTYPE=text/html:Join us for an educational night as Seminole County Public Schools and University of Florida Lastinger Center for Learning provide students\, families\, and community members with an empowering voice to transform the future of math education!<br />\n<br />\nThis event will feature interactive booths\, informational booths\, and a musical performance from Millennium Middle School students.
LOCATION:Millennium Middle School 2330 FL-46 Sanford\, FL 32771
UID:e.2138.33139
SEQUENCE:3
DTSTAMP:20260424T233120Z
URL:https://business.seminolebusiness.org/events/details/scps-uf-community-math-night-33139
END:VEVENT

END:VCALENDAR
