BEGIN:VCALENDAR
VERSION:2.0
PRODID:-//ChamberMaster//Event Calendar 2.0//EN
METHOD:PUBLISH
X-PUBLISHED-TTL:P3D
REFRESH-INTERVAL:P3D
CALSCALE:GREGORIAN
BEGIN:VEVENT
DTSTART:20250819T220000Z
DTEND:20250820T000000Z
X-MICROSOFT-CDO-ALLDAYEVENT:FALSE
SUMMARY:Secrets to Outsmarting Your Competition
DESCRIPTION:FREE Eye-Opening and Interactive Workshop\n\n	Identify and reach your ideal customers.\n	Use data-driven decisions to outsmart your competition.\n	Streamline your sales pipeline with quality leads.\n	Boost your bottom line and take your small business to the next level!
X-ALT-DESC;FMTTYPE=text/html:FREE Eye-Opening and Interactive Workshop\n<ul>\n	<li>Identify and reach your ideal customers.</li>\n	<li>Use data-driven decisions to outsmart your competition.</li>\n	<li>Streamline your sales pipeline with quality leads.</li>\n	<li>Boost your bottom line and take your small business to the next level!</li>\n</ul>\n
LOCATION:Winter Park Library 1052 W. Morse Blvd. Winter Park\, FL 32789
UID:e.2138.37694
SEQUENCE:3
DTSTAMP:20260423T084731Z
URL:https://business.seminolebusiness.org/events/details/secrets-to-outsmarting-your-competition-37694
END:VEVENT

END:VCALENDAR
