BEGIN:VCALENDAR
VERSION:2.0
PRODID:-//ChamberMaster//Event Calendar 2.0//EN
METHOD:PUBLISH
X-PUBLISHED-TTL:P3D
REFRESH-INTERVAL:P3D
CALSCALE:GREGORIAN
BEGIN:VEVENT
DTSTART:20140515T153000Z
DTEND:20140515T170000Z
X-MICROSOFT-CDO-ALLDAYEVENT:FALSE
SUMMARY:Seeds of Hope
DESCRIPTION:Fundraising luncheon benefitting those fighting homelessness and trying to become self-sufficient.
X-ALT-DESC;FMTTYPE=text/html:Fundraising luncheon benefitting those fighting homelessness and trying to become self-sufficient.
LOCATION:The Venetian Ballroom. Centrally located on Colonial Drive near UCF and Valencia College
UID:e.2138.1559
SEQUENCE:3
DTSTAMP:20260420T112244Z
URL:https://business.seminolebusiness.org/events/details/seeds-of-hope-05-15-2014-1559
END:VEVENT

END:VCALENDAR
