BEGIN:VCALENDAR
VERSION:2.0
PRODID:-//ChamberMaster//Event Calendar 2.0//EN
METHOD:PUBLISH
X-PUBLISHED-TTL:P3D
REFRESH-INTERVAL:P3D
CALSCALE:GREGORIAN
BEGIN:VEVENT
DTSTART:20170125T200000Z
DTEND:20170125T233000Z
X-MICROSOFT-CDO-ALLDAYEVENT:FALSE
SUMMARY:Seminole Business Expo
DESCRIPTION:Booths are SOLD OUT!\n\n\n\nVisit www.SeminoleExpo.com for your FREE tickets!\n\n\n\n\n\nFree Food - Cash Bar - Prizes - Countless Leads\n\n\n\nThe Seminole Business Expo is one of the best ways to reach hundreds of potential customers\, business owners\, chamber members\, and employees.\n\nWhat does that mean for your company? Foot traffic. Visibility. Countless Leads. As an exhibitor you get to share information about your products and services\, qualify leads\, build strong business relationships and provide detailed information face-to-face about your business. \n\n\n\nPlease contact Rebekah Arthur at rarthur@seminolebusiness.org or download your form HERE  to reserve your booth!\n\n\n\nVisit www.SeminoleExpo.com for additional information.\n\n \nThank you Sponsors!\n\n\n\nCity of Lake Mary\n\n\n\nInsurance Office of America\n\n\n\nWalgreens\n\n\n\nSeacoast Bank\n\n\n\nFlorida Department of Health - Tobacco Free Seminole\n\n\n\nSeminole Office Solutions\n\n\n\nSage Dental\n\n\n\nAttendance at or participation in SCRCC meetings and events constitutes an agreement by the registrant to SCRCC's use and distribution (both now and in the future) of the registrant or attendee's image or voice in photographs\, videotapes\, electronic reproductions and audiotapes of all events and activities
X-ALT-DESC;FMTTYPE=text/html:<div style="text-align: center\;"><span style="font-family:verdana\;"><span style="text-align: center\; line-height: 28.79px\; font-size: 18px\;"><strong><span style="color:#B22222\;">Booths are SOLD OUT!</span></strong><br />\n<br />\nVisit&nbsp\;</span><span style="font-size: 18px\;"><span style="font-size: 16px\;"><font color="#0066cc"><a href="http://www.seminoleexpo.com/">www.SeminoleExpo.com</a></font>&nbsp\;</span>for your <strong>FREE</strong> tickets!</span><br />\n<br />\n<br />\n<span style="font-size:16px\;"><strong>Free Food - Cash Bar&nbsp\;- Prizes - Countless Leads</strong><br />\n<br />\n<span style="color: rgb(0\, 0\, 0)\;"><span style="font-size:14px\;">The Seminole Business Expo is one of the best ways to reach hundreds of potential customers\, business owners\, chamber members\, and employees.<br />\nWhat does that mean for your company? Foot traffic. Visibility. Countless Leads. As an exhibitor you get to share information about your products and services\, qualify leads\, build strong business relationships and provide detailed information face-to-face about your business.&nbsp\;</span></span><br />\n<br />\n<b>Please contact Rebekah Arthur at <a href="mailto:rarthur@seminolebusiness.org?subject=Expo%20Booth">r</a><a href="mailto:rarthur@seminolebusiness.org?subject=Seminole%20Business%20Expo">arthur</a><a href="mailto:rarthur@seminolebusiness.org?subject=Seminole%20Business%20Expo">@seminolebusiness.org</a>&nbsp\;or download your form <a href="https://chambermaster.blob.core.windows.net/userfiles/UserFiles/chambers/2138/File/2017SeminoleBusinessExpoRegistration.pdf">HERE</a> &nbsp\;to reserve your booth!</b><br />\n<br />\nVisit <a href="http://www.seminoleexpo.com">www.SeminoleExpo.com</a>&nbsp\;for additional information.</span></span><br />\n&nbsp\;\n<div style="clear: both\;"><span style="font-family:verdana\;"><span style="font-size:16px\;"><strong>Thank you Sponsors!<br />\n<br />\n<a href="http://www.lakemaryfl.com">City of Lake Mary</a></strong><br />\n<br />\n<strong><a href="http://www.ioausa.com" target="_blank">Insurance Office of America</a></strong><br />\n<br />\n<strong><a href="http://www.ioausa.com">Walgreens</a><br />\n<br />\n<a href="http://www.seacoastbank.com">Seacoast Bank</a><br />\n<br />\n<a href="http://www.tobaccofreeflorida.com/county/seminole/">Florida Department of Health - Tobacco Free Seminole</a><br />\n<br />\n<a href="http://www.sosfla.com">Seminole Office Solutions</a><br />\n<br />\n<a href="http://www.sagedental.com">Sage Dental</a></strong></span><br />\n<br />\n<em style="font-family: arial\; font-size: 9px\; line-height: 14.4px\;"><font color="#000000">Attendance at or participation in&nbsp\;SCRCC&nbsp\;meetings and events constitutes an agreement by the registrant to SCRCC&#39\;s use and distribution (both now and in the future) of the registrant or attendee&#39\;s image or voice in photographs\, videotapes\, electronic reproductions and audiotapes of all events and activities</font></em></span></div>\n</div>\n
LOCATION:Lake Mary Events Center 260 N Country Club Rd. Lake Mary\, FL 32746
UID:e.2138.4485
SEQUENCE:3
DTSTAMP:20260423T145911Z
URL:https://business.seminolebusiness.org/events/details/seminole-business-expo-01-25-2017-4485
END:VEVENT

END:VCALENDAR
