BEGIN:VCALENDAR
VERSION:2.0
PRODID:-//ChamberMaster//Event Calendar 2.0//EN
METHOD:PUBLISH
X-PUBLISHED-TTL:P3D
REFRESH-INTERVAL:P3D
CALSCALE:GREGORIAN
BEGIN:VEVENT
DTSTART:20260509T140000Z
DTEND:20260509T160000Z
X-MICROSOFT-CDO-ALLDAYEVENT:FALSE
SUMMARY:Seminole County Citizen's Academy: Parks & Recreation
DESCRIPTION:2026 CITIZEN'S ACADEMY\n\nSeminole County is excited to launch the 2026 Citizen's Academy event series its second year of interactive\, behind-the-scenes experiences designed just for our community.\n\n\nThis six-event series is a free\, family-friendly open house where you can tour County facilities\, meet the teams who serve the community\, and see how things work.\n\n\n\nWho: Families and residents of all ages are welcome to attend!\n\nWhen: Stop in at any time during the open house events no set schedule or time commitment required. Registration is not required.\n\n\n\nPARKS & RECREATION\n\n\nSaturday\, May 9\, 10 a.m. noon\n\nCentral Branch Library\, 215 N. Oxford Rd.\, Casselberry\n\n \n\nCome check out how the Parks and Recreation Department helps make Seminole County Florida's Natural Choice! Visit the Central Branch Library to enjoy storytime with our children's librarians\, meet animals up close from the Nature Center\, and discover the various programs and events offered through UF/IFAS Extension Services and the Museum of Seminole County History.\n\n\n\nLearn more or explore additional events at www.seminolecountyfl.gov/academy.
X-ALT-DESC;FMTTYPE=text/html:<div><strong>2026 CITIZEN&#39\;S ACADEMY</strong><br />\nSeminole County is excited to launch the 2026 Citizen&rsquo\;s Academy event series&mdash\;its second year of interactive\, behind-the-scenes experiences designed just for our community.</div>\n<br />\nThis six-event series is a free\, family-friendly open house where you can tour County facilities\, meet the teams who serve the community\, and see how things work.<br />\n<br />\nWho: Families and residents of all ages are welcome to attend!<br />\nWhen: Stop in at any time during the open house events&mdash\;no set schedule or time commitment required. Registration is not required.<br />\n<br />\n<strong>PARKS &amp\; RECREATION</strong>\n\n<div>\n<div>Saturday\, May 9\, 10 a.m.&ndash\;noon<br />\nCentral Branch Library\, 215 N. Oxford Rd.\, Casselberry<br />\n&nbsp\;</div>\n\n<div>Come check out how the Parks and Recreation Department helps make Seminole County Florida&rsquo\;s Natural Choice! Visit the Central Branch Library to enjoy storytime with our children&rsquo\;s librarians\, meet animals up close from the Nature Center\, and discover the various programs and events offered through UF/IFAS Extension Services and the Museum of Seminole County History.</div>\n</div>\n<br />\nLearn more or explore additional events at&nbsp\;<a href="http://www.seminolecountyfl.gov/academy?fbclid=IwZXh0bgNhZW0CMTAAYnJpZBExSnJ3a3Y5TDN4WWExTzFrSnNydGMGYXBwX2lkEDIyMjAzOTE3ODgyMDA4OTIAAR57Pl5Zm24XyRt_7uCfQ_YuEKXxRhdI1JrMiDE8y6lvbYB2gZaK4fER5MJnUg_aem__RZdcsGhTlf_rLugbHgikA" target="_blank"><strong>www.seminolecountyfl.gov/academy</strong></a>.<br />\n<br />\n&nbsp\;
LOCATION:Central Branch Library\, 215 N. Oxford Rd.\, Casselberry
UID:e.2138.42475
SEQUENCE:3
DTSTAMP:20260420T111506Z
URL:https://business.seminolebusiness.org/events/details/seminole-county-citizen-s-academy-parks-recreation-42475
END:VEVENT

END:VCALENDAR
