BEGIN:VCALENDAR
VERSION:2.0
PRODID:-//ChamberMaster//Event Calendar 2.0//EN
METHOD:PUBLISH
X-PUBLISHED-TTL:P3D
REFRESH-INTERVAL:P3D
CALSCALE:GREGORIAN
BEGIN:VEVENT
DTSTART:20190207T230000Z
DTEND:20190208T003000Z
X-MICROSOFT-CDO-ALLDAYEVENT:FALSE
SUMMARY:Seminole County Guardian ad Litem Information Night
DESCRIPTION:YOU ARE INVITED \n\nThe Seminole County Guardian ad Litem Program will be hosting an information night on Thursday\, February 7th from 6:00 pm to 7:30 pm. During this information session we will discuss:\n\n \n\n\n	What is a Guardian ad Litem?\n	Who can be a Guardian ad Litem?\n	Do I have the qualifications needed to advocate for a child?\n	What are the requirements to become a GAL?\n	How much time will I be expected to commit as a volunteer Guardian ad Litem?\n\n\n \n\nSession will be held in the:\n\nGuardian ad Litem Conference Room\n\nJuvenile Justice Center \n\n190 Eslinger Way \n\nSanford\, FL 32773\n\nRSVP: 407.665.6077\n\nEmail: sprieto@seminolecountyfl.gov\n\nFor more info visit our website: www.galseminolecounty.org
X-ALT-DESC;FMTTYPE=text/html:<p>YOU ARE INVITED&hellip\;</p>\n\n<p>The Seminole County Guardian ad Litem Program will be hosting an information night on Thursday\, February 7<sup>th</sup> from 6:00 pm to 7:30 pm. During this information session we will discuss:</p>\n\n<p>&nbsp\;</p>\n\n<ul>\n	<li>What is a Guardian ad Litem?</li>\n	<li>Who can be a Guardian ad Litem?</li>\n	<li>Do I have the qualifications needed to advocate for a child?</li>\n	<li>What are the requirements to become a GAL?</li>\n	<li>How much time will I be expected to commit as a volunteer Guardian ad Litem?</li>\n</ul>\n\n<p>&nbsp\;</p>\n\n<p><strong><em>Session will be held in the:</em></strong></p>\n\n<p><strong>Guardian ad Litem Conference Room</strong></p>\n\n<p><strong>Juvenile Justice Center </strong></p>\n\n<p><strong>190 Eslinger Way </strong></p>\n\n<p><strong>Sanford\, FL 32773</strong></p>\n\n<p>RSVP: 407.665.6077</p>\n\n<p>Email: <a href="mailto:sprieto@seminolecountyfl.gov">sprieto@seminolecountyfl.gov</a></p>\n\n<p><strong>For more info visit our website</strong>:<strong> </strong><a href="http://www.galseminolecounty.org/">www.galseminolecounty.org</a></p>\n
LOCATION:Juvenile Justice Center 190 Eslinger Way Sanford\, FL 32773
UID:e.2138.14885
SEQUENCE:3
DTSTAMP:20260422T130127Z
URL:https://business.seminolebusiness.org/events/details/seminole-county-guardian-ad-litem-information-night-14885
END:VEVENT

END:VCALENDAR
