BEGIN:VCALENDAR
VERSION:2.0
PRODID:-//ChamberMaster//Event Calendar 2.0//EN
METHOD:PUBLISH
X-PUBLISHED-TTL:P3D
REFRESH-INTERVAL:P3D
CALSCALE:GREGORIAN
BEGIN:VEVENT
DTSTART:20180129T210000Z
DTEND:20180129T233000Z
X-MICROSOFT-CDO-ALLDAYEVENT:FALSE
SUMMARY:Seminole County Public Schools' Employee of the Year Celebration
DESCRIPTION:Seminole County Public Schools' high performing educators and support staff drive our Premier school district. Support our district's 70 Employees of the Year\, Employee of the Year finalists\, and our district-wide Employee of the Year which will go on to be considered for statewide recognition. It takes the support from businesses and the community to keep our school district going strong!\n\nMore than 320 guests representing the Employees of the Year\, their family members\, school principals\, school district executives\, school board members and community leaders and sponsors attend to make this event a night of memorable celebration!\n\nPlease consider joining The Foundation as we celebrate these amazing employees!\n\nFor more information\, call 407-320-0176.
X-ALT-DESC;FMTTYPE=text/html:<p>Seminole County Public Schools&#39\; high performing educators and support staff drive our&nbsp\;Premier school district. Support our district&rsquo\;s 70 Employees of the Year\, Employee of the Year finalists\, and our district-wide&nbsp\;Employee of the Year which will go on to be considered for&nbsp\;statewide recognition. It takes the support from businesses&nbsp\;and the community to keep our school district going strong!</p>\n\n<p>More than 320 guests representing the Employees of the Year\, their family members\, school principals\, school district executives\, school board members and community leaders and sponsors attend to make this event a night of memorable celebration!</p>\n\n<p>Please consider joining The Foundation as we celebrate these amazing employees!</p>\n\n<p>For more information\, call&nbsp\;407-320-0176.</p>\n
LOCATION:Rink at Northland Church 530 Dog Track Road Longwood\, FL 32750
UID:e.2138.8717
SEQUENCE:3
DTSTAMP:20260424T094448Z
URL:https://business.seminolebusiness.org/events/details/seminole-county-public-schools-employee-of-the-year-celebration-8717
END:VEVENT

END:VCALENDAR
