BEGIN:VCALENDAR
VERSION:2.0
PRODID:-//ChamberMaster//Event Calendar 2.0//EN
METHOD:PUBLISH
X-PUBLISHED-TTL:P3D
REFRESH-INTERVAL:P3D
CALSCALE:GREGORIAN
BEGIN:VEVENT
DTSTART:20161101T210000Z
DTEND:20161102T003000Z
X-MICROSOFT-CDO-ALLDAYEVENT:FALSE
SUMMARY:Seminole County Public Schools Internship Expo
DESCRIPTION:Workplace Learning\n\nStart Building Tomorrow's Workforce... Today!\n\nWorkplace Learning\n\nGraduates of Seminole County Public Schools will be your future neighbors\, co-workers and fellow citizens. Our current students need opportunities to deepen their classroom learning by applying their skills\, passions and interests to authentic workplace experiences. Students benefit from early exposure to the world of work\, and employers enjoy the energy and enthusiasm that students\, interns\, and teachers bring to their business.\n\nINTERNSHIPS FOR HIGH SCHOOL CREDIT \n\nOffer a high school student a 136 hour in-depth work experience in the spring\, summer or fall.\n\nJOB SHADOWING\n\nProvide an introductory understanding of business and industry to 9th and 10th grade students through job shadowing.\n\nTEACHER EXPERIENCE\n\nInvite a highly qualified educator to add value to your business while refreshing and deepening skills used in the classroom.\n\nCLASSROOM CAREER EXPERIENCE \n\nSponsor a project-based challenge for students interested in your industry or provide employees to serve as career mentors to students.\n\nBECOME A PARTNER\n\nFill Out an Employer Interest Form Today\n\nhttp://www.scps.k12.fl.us/epathways/Home.aspx\n\nSelect Workplace Learning and Fill out the Employer Interest Form\n\nACT NOW!\n\nPartners needed for the next Internship Expo!
X-ALT-DESC;FMTTYPE=text/html:<p>Workplace Learning</p>\n\n<p><em>Start Building Tomorrow&rsquo\;s Workforce... Today!</em></p>\n\n<p><strong>Workplace Learning</strong></p>\n\n<p>Graduates of Seminole County Public Schools will be your future neighbors\, co-workers and fellow citizens. Our current students need opportunities to deepen their classroom learning by applying their skills\, passions and interests to authentic workplace experiences. Students benefit from early exposure to the world of work\, and employers enjoy the energy and enthusiasm that students\, interns\, and teachers bring to their business.</p>\n\n<p><strong>INTERNSHIPS FOR HIGH SCHOOL CREDIT </strong></p>\n\n<p>Offer a high school student a 136 hour in-depth work experience in the spring\, summer or fall.</p>\n\n<p><strong>JOB SHADOWING</strong></p>\n\n<p>Provide an introductory understanding of business and industry to 9th and 10th grade students through job shadowing.</p>\n\n<p><strong>TEACHER EXPERIENCE</strong></p>\n\n<p>Invite a highly qualified educator to add value to your business while refreshing and deepening skills used in the classroom.</p>\n\n<p><strong>CLASSROOM CAREER EXPERIENCE </strong></p>\n\n<p>Sponsor a project-based challenge for students interested in your industry or provide employees to serve as career mentors to students.</p>\n\n<p><strong>BECOME A PARTNER</strong></p>\n\n<p><em>Fill Out an Employer Interest Form Today</em><br />\n<a href="http://www.scps.k12.fl.us/epathways/Home.aspx">http://www.scps.k12.fl.us/epathways/Home.aspx</a></p>\n\n<p>Select Workplace Learning and Fill out the Employer Interest Form</p>\n\n<p>ACT NOW!</p>\n\n<p><em>Partners needed for the next Internship Expo!</em></p>\n
LOCATION:NOAH's Event Venue 720 Currency Circle Lake Mary\, FL 32746
UID:e.2138.4895
SEQUENCE:3
DTSTAMP:20260425T150322Z
URL:https://business.seminolebusiness.org/events/details/seminole-county-public-schools-internship-expo-4895
END:VEVENT

END:VCALENDAR
