BEGIN:VCALENDAR
VERSION:2.0
PRODID:-//ChamberMaster//Event Calendar 2.0//EN
METHOD:PUBLISH
X-PUBLISHED-TTL:P3D
REFRESH-INTERVAL:P3D
CALSCALE:GREGORIAN
BEGIN:VEVENT
DTSTART:20180315T211500Z
DTEND:20180316T000000Z
X-MICROSOFT-CDO-ALLDAYEVENT:FALSE
SUMMARY:Seminole County Public Schools' Teacher of the Year Celebration
DESCRIPTION:On Thursday\, March 15\, 2018\, The Foundation and Seminole County Public Schools proudly introduce the 2019 Teacher of the Year. The event\, presented by CFE Federal Credit Union\, highlights over 60 Teachers of the Year throughout the district which includes the three finalists from each school level. The district-wide Teacher of the Year is announced and will go on to represent SCPS for the State of Florida's Teacher of the Year.\n\nIt takes the support from businesses and the community to keep our award-winning school district going strong! If you are interested in sponsoring this Teacher of the Year Celebration\, please register here or contact us. The event audience is comprised of 300+ Teachers of the Year\, their spouses\, school principals\, SCPS executives\, school board members and event sponsors.\n\nEvery teacher in the room is a winner! We honor them with a bag full of treats from our generous community. If you are interested in placing items in the goody bag   70 needed   please contact Cindy Williams.
X-ALT-DESC;FMTTYPE=text/html:<p>On Thursday\, March 15\, 2018\, The Foundation and Seminole County Public Schools proudly introduce the 2019 Teacher of the Year. The event\, presented by CFE Federal Credit Union\, highlights over 60 Teachers of the Year throughout the district which includes the three finalists from each school level. The district-wide Teacher of the Year is announced and will go on to represent SCPS for the State of Florida&rsquo\;s Teacher of the Year.</p>\n\n<p>It takes the support from businesses and the community to keep our award-winning school district going strong! If you are interested in sponsoring this Teacher of the Year Celebration\, please register here or contact us.&nbsp\;The event audience is comprised of 300+ Teachers of the Year\, their spouses\, school principals\, SCPS executives\, school board members and event sponsors.</p>\n\n<p>Every teacher in the room is a winner! We honor them with a bag full of treats from our generous community. If you are interested in placing&nbsp\;items in the goody bag &ndash\; 70 needed &ndash\;&nbsp\;please contact Cindy Williams.</p>\n
LOCATION:Hilton Orlando / Altamonte Springs 350 Northlake Blvd. Altamonte Springs
UID:e.2138.8716
SEQUENCE:3
DTSTAMP:20260424T145227Z
URL:https://business.seminolebusiness.org/events/details/seminole-county-public-schools-teacher-of-the-year-celebration-8716
END:VEVENT

END:VCALENDAR
