BEGIN:VCALENDAR
VERSION:2.0
PRODID:-//ChamberMaster//Event Calendar 2.0//EN
METHOD:PUBLISH
X-PUBLISHED-TTL:P3D
REFRESH-INTERVAL:P3D
CALSCALE:GREGORIAN
BEGIN:VEVENT
DTSTART:20190423T213000Z
DTEND:20190423T233000Z
X-MICROSOFT-CDO-ALLDAYEVENT:FALSE
SUMMARY:Seminole County Regional Chamber of Commerce New Staff Welcome Reception
DESCRIPTION:Online Registration is now CLOSED - but you are welcome to register at the door tonight! \n\n\n\nOrlando Health will be hosting a reception to welcome two new team members to the Seminole County Regional Chamber of Commerce. \n\n\n\nJessica Peters\, formerly with the City of Lake Mary\, is now the Chamber's Director of Events and Ben Paris\, current Mayor for the City of Longwood\, is the Chamber's new Vice President of Operations.\n\n\n\nThe evening will include an informal happy hour with appetizers and beverages as well as a short program to officially welcome Jessica and Ben.\n\n\n\nThis event is free to attend thanks to Orlando Health\, however we ask you to please RSVP!
X-ALT-DESC;FMTTYPE=text/html:<strong style="text-align: center\; color: rgb(178\, 34\, 34)\; font-size: 16px\;">Online Registration is now CLOSED - but you are welcome&nbsp\;to register at the door tonight!&nbsp\;</strong><br />\n<br />\n<strong>Orlando Health will be hosting a reception to welcome two new team members to the Seminole County Regional Chamber of Commerce. </strong><br />\n<br />\nJessica Peters\, formerly with the City of Lake Mary\, is now the Chamber&rsquo\;s Director of Events and Ben Paris\, current Mayor for the City of Longwood\, is the Chamber&rsquo\;s new Vice President of Operations.<br />\n<br />\nThe evening will include an informal happy hour with appetizers and beverages as well as a short program to officially welcome Jessica and Ben.<br />\n<br />\nThis event is free to attend thanks to Orlando Health\, however we ask you to please RSVP!<br />\n&nbsp\;
LOCATION:Heathrow Country Club 1200 Bridgewater Drive Heathrow\, FL 32746
UID:e.2138.15143
SEQUENCE:3
DTSTAMP:20260422T095216Z
URL:https://business.seminolebusiness.org/events/details/seminole-county-regional-chamber-of-commerce-new-staff-welcome-reception-15143
END:VEVENT

END:VCALENDAR
