BEGIN:VCALENDAR
VERSION:2.0
PRODID:-//ChamberMaster//Event Calendar 2.0//EN
METHOD:PUBLISH
X-PUBLISHED-TTL:P3D
REFRESH-INTERVAL:P3D
CALSCALE:GREGORIAN
BEGIN:VEVENT
DTSTART:20170401T140000Z
DTEND:20170401T170000Z
X-MICROSOFT-CDO-ALLDAYEVENT:FALSE
SUMMARY:Seminole County Sheriff's Office South Region Open House
DESCRIPTION:Looking for something fun to do on a Saturday? Come join us at our first annual South Region Open House. Event details are listed below. We hope to see you there!\n\n\n\n - MEET DEPUTIES\n\n - LEARN MORE ABOUT THE SHERIFF'S OFFICE\n\n - CRIME PREVENTION & SAFETY DISPLAYS\n\n - ACTIVITIES FOR THE CHILDREN\n\n - VEHICLE DISPLAYS\n\n - HAMBURGERS & HOT DOGS
X-ALT-DESC;FMTTYPE=text/html:<p>Looking for something fun to do on a Saturday? Come&nbsp\;<span style="background-color:rgba(88\, 144\, 255\, 0.14902)\; font-family:inherit">join us</span>&nbsp\;at our first annual South Region Open House.&nbsp\;Event details are listed below. We hope to see you there!<br />\n<br />\n<span style="background-color:rgb(255\, 255\, 255)\; color:rgb(51\, 51\, 51)\; font-family:sans-serif\,arial\,verdana\,trebuchet ms\; font-size:13px">&nbsp\;-&nbsp\;</span><span style="background-color:rgb(255\, 255\, 255)\; color:rgb(51\, 51\, 51)\; font-family:sans-serif\,arial\,verdana\,trebuchet ms\; font-size:13px">MEET DEPUTIES</span><br />\n<span style="background-color:rgb(255\, 255\, 255)\; color:rgb(51\, 51\, 51)\; font-family:sans-serif\,arial\,verdana\,trebuchet ms\; font-size:13px">&nbsp\;- LEARN MORE ABOUT THE SHERIFF&rsquo\;S OFFICE</span><br />\n<span style="background-color:rgb(255\, 255\, 255)\; color:rgb(51\, 51\, 51)\; font-family:sans-serif\,arial\,verdana\,trebuchet ms\; font-size:13px">&nbsp\;- CRIME PREVENTION &amp\; SAFETY DISPLAYS</span><br />\n<span style="background-color:rgb(255\, 255\, 255)\; color:rgb(51\, 51\, 51)\; font-family:sans-serif\,arial\,verdana\,trebuchet ms\; font-size:13px">&nbsp\;- ACTIVITIES FOR THE CHILDREN</span><br />\n<span style="background-color:rgb(255\, 255\, 255)\; color:rgb(51\, 51\, 51)\; font-family:sans-serif\,arial\,verdana\,trebuchet ms\; font-size:13px">&nbsp\;- VEHICLE DISPLAYS</span><br />\n<span style="background-color:rgb(255\, 255\, 255)\; color:rgb(51\, 51\, 51)\; font-family:sans-serif\,arial\,verdana\,trebuchet ms\; font-size:13px">&nbsp\;- HAMBURGERS &amp\; HOT DOGS</span></p>\n
LOCATION:120 West Pineview Street Altamonte Springs\, FL 32714
UID:e.2138.6686
SEQUENCE:3
DTSTAMP:20260423T193851Z
URL:https://business.seminolebusiness.org/events/details/seminole-county-sheriff-s-office-south-region-open-house-6686
END:VEVENT

END:VCALENDAR
