BEGIN:VCALENDAR
VERSION:2.0
PRODID:-//ChamberMaster//Event Calendar 2.0//EN
METHOD:PUBLISH
X-PUBLISHED-TTL:P3D
REFRESH-INTERVAL:P3D
CALSCALE:GREGORIAN
BEGIN:VEVENT
DTSTART;VALUE=DATE:20181008
DTEND;VALUE=DATE:20181009
TRANSP:TRANSPARENT
X-MICROSOFT-CDO-ALLDAYEVENT:TRUE
SUMMARY:Seminole Cultural Arts Council Charity Golf Event
DESCRIPTION:Date: Monday\, October 8\, 2018\n\nTime: 11:30 am registration\n\n1:00 pm shotgun start\n\nCourse: Timacuan Golf and Country Club\n\nAddress: 550 Timacuan Blvd.\n\nLake Mary\, FL 32746\n\nPrice: $500.00 per foursome\n\n$125.00 Single Golfers\n\nIncludes lunch and dinner\n\nInfo: 407-302-1099
X-ALT-DESC;FMTTYPE=text/html:<p>Date: <strong>Monday\, October 8\, 2018</strong></p>\n\n<p>Time: <strong>11:30 am registration</strong></p>\n\n<p><strong>1:00 pm shotgun start</strong></p>\n\n<p>Course: <strong>Timacuan Golf and Country Club</strong></p>\n\n<p>Address: <strong>550 Timacuan Blvd.</strong></p>\n\n<p><strong>Lake Mary\, FL 32746</strong></p>\n\n<p>Price: <strong>$500.00 per foursome</strong></p>\n\n<p><strong>$125.00 Single Golfers</strong></p>\n\n<p><strong>Includes lunch and dinner</strong></p>\n\n<p>Info: <strong>407-302-1099</strong></p>\n
LOCATION:Timacuan Golf and Country Club 550 Timacuan Blvd. Lake Mary\, FL 32746
UID:e.2138.9570
SEQUENCE:3
DTSTAMP:20260424T023422Z
URL:https://business.seminolebusiness.org/events/details/seminole-cultural-arts-council-charity-golf-event-9570
END:VEVENT

END:VCALENDAR
