BEGIN:VCALENDAR
VERSION:2.0
PRODID:-//ChamberMaster//Event Calendar 2.0//EN
METHOD:PUBLISH
X-PUBLISHED-TTL:P3D
REFRESH-INTERVAL:P3D
CALSCALE:GREGORIAN
BEGIN:VEVENT
DTSTART:20170222T210000Z
DTEND:20170223T000000Z
X-MICROSOFT-CDO-ALLDAYEVENT:FALSE
SUMMARY:Seminole State College Career Fair
DESCRIPTION:Seminole State College's Career Development Center is excited to announce that our Heathrow campus will be hosting a career fair on Wednesday\, February 22\, 2017. The event will be from 4:00 PM-7:00 PM and will feature employers from the fields of Business\, Information Technology\, Digital Media\, and Graphic Design. Our Heathrow campus proudly shares a building with the Seminole County Regional Chamber of Commerce and would be thrilled to have businesses that are members of the chamber attend this exciting recruiting event. Registration for the event is open now and will remain open until February 15\, 2017. The event is free of charge to both employers and students. For information on how to register\, please contact Brittany Shivers either by phone (407-708-4444) or email (shiversb@seminolestate.edu). We look forward to seeing you there!
X-ALT-DESC;FMTTYPE=text/html:Seminole State College&rsquo\;s Career Development Center is excited to announce that our Heathrow campus will be hosting a career fair on Wednesday\, February 22\, 2017. The event will be from 4:00 PM-7:00 PM and will feature employers from the fields of Business\, Information Technology\, Digital Media\, and Graphic Design. Our Heathrow campus proudly shares a building with the Seminole County Regional Chamber of Commerce and would be thrilled to have businesses that are members of the chamber attend this exciting recruiting event. Registration for the event is open now and will remain open until February 15\, 2017. The event is free of charge to both employers and students. For information on how to register\, please contact Brittany Shivers either by phone (407-708-4444) or email (<a href="mailto:shiversb@seminolestate.edu">shiversb@seminolestate.edu</a>). We look forward to seeing you there!
LOCATION:Seminole State College-Heathrow Campus\, Room #138 1055 AAA Drive Heathrow\, FL 32746
UID:e.2138.6416
SEQUENCE:3
DTSTAMP:20260423T161709Z
URL:https://business.seminolebusiness.org/events/details/seminole-state-college-career-fair-6416
END:VEVENT

END:VCALENDAR
