BEGIN:VCALENDAR
VERSION:2.0
PRODID:-//ChamberMaster//Event Calendar 2.0//EN
METHOD:PUBLISH
X-PUBLISHED-TTL:P3D
REFRESH-INTERVAL:P3D
CALSCALE:GREGORIAN
BEGIN:VEVENT
DTSTART;VALUE=DATE:20171005
DTEND;VALUE=DATE:20171006
TRANSP:TRANSPARENT
X-MICROSOFT-CDO-ALLDAYEVENT:TRUE
SUMMARY:Center for Fine and Performing Arts: Literature\, Libations\, and Little White Lies (gallery opening reception)
DESCRIPTION:The season continues with Literature\, Libations\, and Little White Lies\, featuring oil still-life paintings\, by Jose Pardo. which pay homage to literary stories and heroes\, like Edgar Allan Poe and Hemmingway. Jose Pardo is a member of the Oil Painters of America and the National Oil and Acrylics Painters Society.\n\n\n\nThe Seminole State College Fine Arts Gallery provides memorable exhibitions for diverse audiences\, students and artists that promote the value and understanding of contemporary art within a local\, national and international context.\n\n\n\nThe exhibit opens from 5-7 p.m. on Thursday\, Oct. 5\, and continues through Nov. 1.
X-ALT-DESC;FMTTYPE=text/html:The season continues with <em>Literature\, Libations\, and Little White Lies\, </em>featuring oil still-life paintings\, by Jose Pardo. which pay homage to literary stories and heroes\, like Edgar Allan Poe and Hemmingway. Jose Pardo is a member of the Oil Painters of America and the National Oil and Acrylics Painters Society.<br />\n<br />\nThe Seminole State College Fine Arts Gallery provides memorable exhibitions for diverse audiences\, students and artists that promote the value and understanding of contemporary art within a local\, national and international context.<br />\n<br />\nThe exhibit opens from 5-7 p.m. on Thursday\, Oct. 5\, and continues through Nov. 1.
LOCATION:Fine Arts Gallery (building G) Seminole State College of Florida Sanford/Lake Mary Campus 100 Weldon Blvd. Sanford\, FL 32773
UID:e.2138.8228
SEQUENCE:3
DTSTAMP:20260424T043700Z
URL:https://business.seminolebusiness.org/events/details/seminole-state-college-gallery-opening-reception-literature-libations-and-little-white-lies-8228
END:VEVENT

END:VCALENDAR
