BEGIN:VCALENDAR
VERSION:2.0
PRODID:-//ChamberMaster//Event Calendar 2.0//EN
METHOD:PUBLISH
X-PUBLISHED-TTL:P3D
REFRESH-INTERVAL:P3D
CALSCALE:GREGORIAN
BEGIN:VEVENT
DTSTART:20180208T220000Z
DTEND:20180209T000000Z
X-MICROSOFT-CDO-ALLDAYEVENT:FALSE
SUMMARY:Center for Fine and Performing Arts: Magical Worlds of Nancy Dillen (gallery opening reception)
DESCRIPTION:Nancy Baur Dillen presents an exhibition of a series of paintings and drawings of imaginative worlds both real and fantastical. Dillen earned a Master of Arts (M.A.) in Art Education and Constructive Design from Florida State University. She has been an art educator at Eastern Florida State College\, where she has been honored as Art Professor Emeritus. \n\n\n\nThe Seminole State College Fine Arts Gallery provides memorable exhibitions for diverse audiences\, students and artists that promote the value and understanding of contemporary art within a local\, national and international context.\n\n\n\nThe exhibit opens from 5-7 p.m. on Thursday\, Feb. 8\, and continues through March. 13.
X-ALT-DESC;FMTTYPE=text/html:Nancy Baur Dillen presents an exhibition of a series of paintings and drawings of imaginative worlds both real and fantastical. Dillen earned a Master of Arts (M.A.) in Art Education and Constructive Design from Florida State University. She has been an art educator at Eastern Florida State College\, where she has been honored as Art Professor Emeritus.&nbsp\;<br />\n<br />\nThe Seminole State College Fine Arts Gallery provides memorable exhibitions for diverse audiences\, students and artists that promote the value and understanding of contemporary art within a local\, national and international context.<br />\n<br />\nThe exhibit opens from 5-7 p.m. on Thursday\, Feb. 8\, and continues through March. 13.<br />\n<br />\n<br />\n&nbsp\;
LOCATION:Fine Arts Gallery (building G) Seminole State College of Florida Sanford/Lake Mary Campus 100 Weldon Blvd. Sanford\, FL 32773
UID:e.2138.8231
SEQUENCE:3
DTSTAMP:20260424T113518Z
URL:https://business.seminolebusiness.org/events/details/seminole-state-college-gallery-opening-reception-magical-worlds-of-nancy-dillen-8231
END:VEVENT

END:VCALENDAR
