BEGIN:VCALENDAR
VERSION:2.0
PRODID:-//ChamberMaster//Event Calendar 2.0//EN
METHOD:PUBLISH
X-PUBLISHED-TTL:P3D
REFRESH-INTERVAL:P3D
CALSCALE:GREGORIAN
BEGIN:VEVENT
DTSTART;VALUE=DATE:20160414
DTEND;VALUE=DATE:20160415
TRANSP:TRANSPARENT
X-MICROSOFT-CDO-ALLDAYEVENT:TRUE
SUMMARY:Senior Job & Volunteer Fair
DESCRIPTION:
X-ALT-DESC;FMTTYPE=text/html:
LOCATION:715 Douglas Ave\, Altamonte Springs\, FL
UID:e.2138.4396
SEQUENCE:3
DTSTAMP:20260426T013853Z
URL:https://business.seminolebusiness.org/events/details/senior-job-volunteer-fair-04-14-2016-4396
END:VEVENT

END:VCALENDAR
