BEGIN:VCALENDAR
VERSION:2.0
PRODID:-//ChamberMaster//Event Calendar 2.0//EN
METHOD:PUBLISH
X-PUBLISHED-TTL:P3D
REFRESH-INTERVAL:P3D
CALSCALE:GREGORIAN
BEGIN:VEVENT
DTSTART:20180310T120000Z
DTEND:20180310T150000Z
X-MICROSOFT-CDO-ALLDAYEVENT:FALSE
SUMMARY:Sham Rock N Run 5K
DESCRIPTION:The 7th Annual Sham Rock N Run 5K benefitting HOPE Helps\, is a fun-for-the-whole family event.  The professionally timed race will include prizes for the top male/female runners in a variety of age catagories\, finisher's medals and t-shirts for all\, a prize for the largest team\, a costume contest (come in your St. Patty's Day best!)\, Irish entertainment\, refreshments and a FREE Leprechaun Lap (Kids Fun Run) for those under 10.  There is also an option to Snooze for HOPE or run a Virtual 5K if you can't join us on the day of the race but still want to support HOPE.\n\n\n\nHOPE Helps mission is to prevent and reduce homelessness in Central Florida through Housing\, Outreach\, Prevention and Education.
X-ALT-DESC;FMTTYPE=text/html:The 7th Annual Sham Rock N Run 5K benefitting HOPE Helps\, is a fun-for-the-whole family event.&nbsp\; The professionally timed race will include prizes for the top male/female runners in a variety of age catagories\, finisher&#39\;s medals and t-shirts for all\, a prize for the largest team\, a costume contest (come in your St. Patty&#39\;s Day best!)\, Irish entertainment\, refreshments and a FREE Leprechaun Lap (Kids Fun Run) for those under 10.&nbsp\; There is also an option to Snooze for HOPE or run a Virtual 5K if you can&#39\;t join us on the day of the race but still want to support HOPE.<br />\n<br />\nHOPE Helps mission is to prevent and reduce homelessness in Central Florida through Housing\, Outreach\, Prevention and Education.
LOCATION:St. Luke's Lutheran Church 2021 SR 426\, Oviedo\, FL 32765
UID:e.2138.8737
SEQUENCE:3
DTSTAMP:20260424T130221Z
URL:https://business.seminolebusiness.org/events/details/sham-rock-n-run-5k-8737
END:VEVENT

END:VCALENDAR
