BEGIN:VCALENDAR
VERSION:2.0
PRODID:-//ChamberMaster//Event Calendar 2.0//EN
METHOD:PUBLISH
X-PUBLISHED-TTL:P3D
REFRESH-INTERVAL:P3D
CALSCALE:GREGORIAN
BEGIN:VEVENT
DTSTART:20160405T113000Z
DTEND:20160405T133000Z
X-MICROSOFT-CDO-ALLDAYEVENT:FALSE
SUMMARY:Shepherd's Hope Call To Hope Fundraising Breakfast
DESCRIPTION:RSVP REQUIRED TO ATTEND - Please see event link to RSVP. \n\nThe Call to Hope Fundraising breakfast shares inspirational and meaningful stories about the estimated 21\,000 free patient visits and medical services provided last year to the uninsured men\, women and children in Central Florida. Guests will get a special glimpse of how hope is being shared in very impactful ways each night at our five health centers by the 1\,800 volunteers who give more than 38\,000 hours of their time to help some of our communities most vulnerable neighbors.
X-ALT-DESC;FMTTYPE=text/html:<p><strong><em>RSVP REQUIRED TO ATTEND - Please see event link to RSVP. </em></strong></p>\n\n<p>The Call to Hope Fundraising breakfast shares inspirational and meaningful stories about the estimated 21\,000 free patient visits and medical services provided last year to the uninsured men\, women and children in Central Florida. Guests will get a special glimpse of how hope is being shared in very impactful ways each night at our five health centers by the 1\,800 volunteers who give more than 38\,000 hours of their time to help some of our communities most vulnerable neighbors. &nbsp\;</p>\n
LOCATION:Rosen Shingle Creek
UID:e.2138.4364
SEQUENCE:3
DTSTAMP:20260426T013757Z
URL:https://business.seminolebusiness.org/events/details/shepherd-s-hope-call-to-hope-fundraising-breakfast-04-05-2016-4364
END:VEVENT

END:VCALENDAR
