BEGIN:VCALENDAR
VERSION:2.0
PRODID:-//ChamberMaster//Event Calendar 2.0//EN
METHOD:PUBLISH
X-PUBLISHED-TTL:P3D
REFRESH-INTERVAL:P3D
CALSCALE:GREGORIAN
BEGIN:VEVENT
DTSTART:20140605T213000Z
DTEND:20140605T233000Z
X-MICROSOFT-CDO-ALLDAYEVENT:FALSE
SUMMARY:SHI Education Center Open House
DESCRIPTION:You are cordially invited to an exclusive Open House Event to tour the all new\, multipurpose space-totally dedicated to spine health\, education and rehabilitation. The state-of-the-art center will feature hands-on seminars\, physical therapy and rehab suite and on-going lecture series. There will be refreshments/Entertainment/ Prizes/Golf Swing Analysis/Meet & Greet with SHI Team and much more.
X-ALT-DESC;FMTTYPE=text/html:You are cordially invited to an exclusive Open House Event to tour the all new\, multipurpose space-totally dedicated to spine health\, education and rehabilitation. The state-of-the-art center will feature hands-on seminars\, physical therapy and rehab suite and on-going lecture series. There will be refreshments/Entertainment/ Prizes/Golf Swing Analysis/Meet & Greet with SHI Team and much more. 
LOCATION:Spine Health Institute at Florida Hospital Altamonte 711 E. Altamonte Drive\, Altamonte Springs\, FL 32701
UID:e.2138.1603
SEQUENCE:3
DTSTAMP:20260420T095421Z
URL:https://business.seminolebusiness.org/events/details/shi-education-center-open-house-06-05-2014-1603
END:VEVENT

END:VCALENDAR
