BEGIN:VCALENDAR
VERSION:2.0
PRODID:-//ChamberMaster//Event Calendar 2.0//EN
METHOD:PUBLISH
X-PUBLISHED-TTL:P3D
REFRESH-INTERVAL:P3D
CALSCALE:GREGORIAN
BEGIN:VEVENT
DTSTART:20160423T150000Z
DTEND:20160423T180000Z
X-MICROSOFT-CDO-ALLDAYEVENT:FALSE
SUMMARY:Shred-a-thon: CFE Federal Credit Union
DESCRIPTION:Join us to shred your unwanted documents and electronic items for FREE! Shred containers should weigh no more than 35 pounds and contain no metal or foreign objects. All hard drives in equipment will either be erased or shredded by Orlando Recycles\, Inc. CRT Monitors and tube-style televisions will not be accepted.\n\n\n\nDid you know?\n\n \n\nFlorida is ranked #1 in the U.S.1 for identity theft complaints. Florida averages over 21\,00 complaints per year. Shredding is the #1 recommended defense in preventing identity theft. That's why we are inviting everyone to shred their outdated:\n\n \n\n\n	Financial records\n	Credit card statements\n	Personal files\n	Pay stubs\n	Cancelled checks & credit cards\n	And other confidential data\n\n	 \n\n\n1Consumer Sentinel Network Data Book (Jan-Dec 2010)
X-ALT-DESC;FMTTYPE=text/html:<p><span style="font-size:14px"><span style="font-family:tahoma">Join us to shred your unwanted documents and electronic items for FREE! Shred containers should weigh no more than 35 pounds and contain no metal or foreign objects. All hard drives in equipment will either be erased or shredded by Orlando Recycles\, Inc. CRT Monitors and tube-style televisions will not be accepted.<br />\n<br />\nDid you know?<br />\n&nbsp\;<br />\nFlorida is ranked #1 in the U.S.<sup>1</sup> for identity theft complaints. Florida averages over 21\,00 complaints per year. Shredding is the #1 recommended defense in preventing identity theft. That&rsquo\;s why we are inviting everyone to shred their outdated:<br />\n&nbsp\;</span></span></p>\n\n<ul>\n	<li><span style="font-size:14px"><span style="font-family:tahoma">Financial records</span></span></li>\n	<li><span style="font-size:14px"><span style="font-family:tahoma">Credit card statements</span></span></li>\n	<li><span style="font-size:14px"><span style="font-family:tahoma">Personal files</span></span></li>\n	<li><span style="font-size:14px"><span style="font-family:tahoma">Pay stubs</span></span></li>\n	<li><span style="font-size:14px"><span style="font-family:tahoma">Cancelled checks &amp\; credit cards</span></span></li>\n	<li><span style="font-size:14px"><span style="font-family:tahoma">And other confidential data</span></span><br />\n	&nbsp\;</li>\n</ul>\n\n<p><span style="font-size:10px"><span style="font-family:calibri"><sup>1</sup>Consumer Sentinel Network Data Book (Jan-Dec 2010)</span></span></p>\n
LOCATION:CFE Federal Credit Union - Lake Mary Branch 1000 Primera Blvd. Lake Mary\, FL 32746
UID:e.2138.4381
SEQUENCE:3
DTSTAMP:20260426T013853Z
URL:https://business.seminolebusiness.org/events/details/shred-a-thon-cfe-federal-credit-union-04-23-2016-4381
END:VEVENT

END:VCALENDAR
