BEGIN:VCALENDAR
VERSION:2.0
PRODID:-//ChamberMaster//Event Calendar 2.0//EN
METHOD:PUBLISH
X-PUBLISHED-TTL:P3D
REFRESH-INTERVAL:P3D
CALSCALE:GREGORIAN
BEGIN:VEVENT
DTSTART:20160319T123000Z
DTEND:20160319T160000Z
X-MICROSOFT-CDO-ALLDAYEVENT:FALSE
SUMMARY:Shred Party
DESCRIPTION:March is a great month to go through filing cabinets and drawers to dispose of outdated documents. Many of us doing this already because of tax season\, so our shred event provides an additional incentive to purge your files of outdated documents\," said Joda Connell\, Market Manager with IBERIABANK.\n\n \n\nA $3.00/box voluntary donation will be collected for the Leadership Seminole Legacy Project which will direct collected funds to Friends of Children and Families\, Inc. Founded in 1984\, Friends of Children and Families\, Inc. is a 501(c)3 non-profit organization whose mission is provide a safe and nurturing environment for at-risk children and their families. The goal is to provide these individuals with the opportunity to develop into well-adjusted and productive members of society. Friends of Children and Families\, Inc. serves children and families throughout Central Florida.\n\n \n\nLimit 10 boxes. For more information about shred event\, contact (407) 388-6140.
X-ALT-DESC;FMTTYPE=text/html:March is a great month to go through filing cabinets and drawers to dispose of outdated documents. Many of us doing this already because of tax season\, so our shred event provides an additional incentive to purge your files of outdated documents\,&rdquo\; said Joda Connell\, Market Manager with IBERIABANK.<br />\n&nbsp\;<br />\nA $3.00/box voluntary donation will be collected for the Leadership Seminole Legacy Project which will direct collected funds to&nbsp\;<a href="http://friendsofchildrenandfamilies.org/" style="color:rgb(17\, 85\, 204)\;" target="_blank">Friends of Children and Families\, Inc</a>. Founded in 1984\, Friends of Children and Families\, Inc. is a 501(c)3 non-profit organization whose mission is provide a safe and nurturing environment for at-risk children and their families. The goal is to provide these individuals with the opportunity to develop into well-adjusted and productive members of society. Friends of Children and Families\, Inc. serves children and families throughout Central Florida.<br />\n&nbsp\;<br />\nLimit 10 boxes. For more information about shred event\, contact&nbsp\;<a href="tel:%28407%29%20388-6140" style="color:rgb(17\, 85\, 204)\;" target="_blank">(407) 388-6140</a>.
LOCATION:IBERIABANK- Lake Mary 7090 County Road 46A
UID:e.2138.4370
SEQUENCE:3
DTSTAMP:20260426T031220Z
URL:https://business.seminolebusiness.org/events/details/shred-party-03-19-2016-4370
END:VEVENT

END:VCALENDAR
