BEGIN:VCALENDAR
VERSION:2.0
PRODID:-//ChamberMaster//Event Calendar 2.0//EN
METHOD:PUBLISH
X-PUBLISHED-TTL:P3D
REFRESH-INTERVAL:P3D
CALSCALE:GREGORIAN
BEGIN:VEVENT
DTSTART:20190928T130000Z
DTEND:20190928T160000Z
X-MICROSOFT-CDO-ALLDAYEVENT:FALSE
SUMMARY:Shredding Hunger
DESCRIPTION:Orlando Federal Credit Union is hosting a Shred Day and Food Drive to support United Against Poverty Orlando. On Saturday\, September 28th\, 9 am - 12 pm come safely shred your documents while helping us Shred Hunger! Please visit OrlandoCreditUnion.org for a list of acceptable food donations and shred rules.
X-ALT-DESC;FMTTYPE=text/html:Orlando Federal Credit Union is hosting a Shred Day and Food Drive to support United Against Poverty Orlando. On Saturday\, September 28th\, 9 am - 12 pm come safely shred your documents while helping us Shred Hunger! Please visit OrlandoCreditUnion.org for a list of acceptable food donations and shred rules.&nbsp\;
LOCATION:Orlando Federal Credit Union\, 2150 S Semoran Blvd\, Orlando\, FL 32822
UID:e.2138.16556
SEQUENCE:3
DTSTAMP:20260422T021305Z
URL:https://business.seminolebusiness.org/events/details/shredding-hunger-16556
END:VEVENT

END:VCALENDAR
