BEGIN:VCALENDAR
VERSION:2.0
PRODID:-//ChamberMaster//Event Calendar 2.0//EN
METHOD:PUBLISH
X-PUBLISHED-TTL:P3D
REFRESH-INTERVAL:P3D
CALSCALE:GREGORIAN
BEGIN:VEVENT
DTSTART:20180621T213000Z
DTEND:20180621T233000Z
X-MICROSOFT-CDO-ALLDAYEVENT:FALSE
SUMMARY:Sip and Shred
DESCRIPTION:Sip & Shred:   Come join us for networking\, Wine\, Food and FREE PAPER SHREDDING!
X-ALT-DESC;FMTTYPE=text/html:<h1>Sip &amp\; Shred: &nbsp\; Come join us for networking\, Wine\, Food and FREE PAPER SHREDDING!</h1>\n
LOCATION:PNC Bank Winter Park Square 1000 N. Orlando Avenue Winter Park\, FL 32789 RSVP to Ashley.Brundage@pnc.com or Pam@CrownInformationManagement.com
UID:e.2138.9464
SEQUENCE:3
DTSTAMP:20260424T084400Z
URL:https://business.seminolebusiness.org/events/details/sip-and-shred-9464
END:VEVENT

END:VCALENDAR
