BEGIN:VCALENDAR
VERSION:2.0
PRODID:-//ChamberMaster//Event Calendar 2.0//EN
METHOD:PUBLISH
X-PUBLISHED-TTL:P3D
REFRESH-INTERVAL:P3D
CALSCALE:GREGORIAN
BEGIN:VEVENT
DTSTART:20190625T200000Z
DTEND:20190625T220000Z
X-MICROSOFT-CDO-ALLDAYEVENT:FALSE
SUMMARY:Sip\, Shop & Botox
DESCRIPTION:Sip and shop with local vendors\, including: Nothing Bundt Cakes\, Jane's Body Scrubs\, Divine Inspirations Artistry by Karen\, Fairy Tale Gardens\, Glo Skin Beauty\, Zo Skin Health skincare and Allergan (Botox & Juvederm famiily of products).\n\nGrand Prize raffle winner will receive a Botox and Juvederm filler treatment!!
X-ALT-DESC;FMTTYPE=text/html:&nbsp\; &nbsp\; Sip and shop with local vendors\, including: Nothing Bundt Cakes\, Jane&#39\;s Body Scrubs\, Divine Inspirations Artistry by Karen\, Fairy Tale Gardens\, Glo Skin Beauty\, Zo Skin Health skincare and Allergan (Botox &amp\; Juvederm famiily of products).<br />\nGrand Prize raffle winner will receive a Botox and Juvederm filler treatment!!
LOCATION:Central Florida Eye Specialists Lake Mary office
UID:e.2138.15177
SEQUENCE:3
DTSTAMP:20260422T063113Z
URL:https://business.seminolebusiness.org/events/details/sip-shop-botox-15177
END:VEVENT

END:VCALENDAR
