BEGIN:VCALENDAR
VERSION:2.0
PRODID:-//ChamberMaster//Event Calendar 2.0//EN
METHOD:PUBLISH
X-PUBLISHED-TTL:P3D
REFRESH-INTERVAL:P3D
CALSCALE:GREGORIAN
BEGIN:VEVENT
DTSTART:20250802T140000Z
DTEND:20250802T220000Z
X-MICROSOFT-CDO-ALLDAYEVENT:FALSE
SUMMARY:GRAND OPENING – The Marketplace August 1st\, 2025
DESCRIPTION:Mark Your Calendar!\n\nThe Marketplace by The APBS Design Studio\n\nWe're finally opening our doors  and you're invited to be part of the celebration!\n\nDiscover a space full of style\, creativity\, and one-of-a-kind finds\, all in the heart of DeBary.\n\nWhen: Friday\, August 2nd\, 2025\n\nWhere: 4 S Charles Richard Beall Blvd\, DeBary\, FL\n\nTime: 10 am - 6 pm Tuesday to Sunday\n\nExplore a curated mix of:\n\n  Unique handmade gifts\n\n  Local artisan goods\n\n  Boutique home d cor & jewelry\n\n  And tons of inspiration!\n\nMusic   Community Vibes\n\nWhether you're shopping small\, supporting local\, or just curious\, this is your official invite to see what The Marketplace is all about.\n\nFollow us @apbsdesignstudio for exclusive previews & updates.
X-ALT-DESC;FMTTYPE=text/html:<p><span style="font-size:14px">Mark Your Calendar!<br />\nThe Marketplace by The APBS Design Studio</span></p>\n\n<p><span style="font-size:14px">We&rsquo\;re finally opening our doors&hellip\; and you&rsquo\;re invited to be part of the celebration!</span></p>\n\n<p><span style="font-size:14px">Discover a space full of style\, creativity\, and one-of-a-kind finds\,&nbsp\;all in the heart of DeBary.</span></p>\n\n<p><span style="font-size:14px">When: Friday\, August 2nd\, 2025<br />\nWhere: 4 S Charles Richard Beall Blvd\, DeBary\, FL<br />\nTime: 10 am - 6 pm Tuesday to Sunday</span></p>\n\n<p><span style="font-size:14px">Explore a curated mix of:<br />\n&bull\; Unique handmade gifts<br />\n&bull\; Local artisan goods<br />\n&bull\; Boutique home d&eacute\;cor &amp\; jewelry<br />\n&bull\; And tons of inspiration!</span></p>\n\n<p><span style="font-size:14px">Music &bull\; Community Vibes</span></p>\n\n<p><span style="font-size:14px">Whether you&rsquo\;re shopping small\, supporting local\, or just curious\, this is your <em>official</em> invite to see what The Marketplace is all about.</span></p>\n\n<p><span style="font-size:14px">Follow us @apbsdesignstudio for exclusive previews &amp\; updates.</span></p>\n
LOCATION:
UID:e.2138.37090
SEQUENCE:3
DTSTAMP:20260423T084818Z
URL:https://business.seminolebusiness.org/events/details/sip-shop-summer-launch-party-37090
END:VEVENT

END:VCALENDAR
