BEGIN:VCALENDAR
VERSION:2.0
PRODID:-//ChamberMaster//Event Calendar 2.0//EN
METHOD:PUBLISH
X-PUBLISHED-TTL:P3D
REFRESH-INTERVAL:P3D
CALSCALE:GREGORIAN
BEGIN:VEVENT
DTSTART:20170125T150000Z
DTEND:20170125T170000Z
X-MICROSOFT-CDO-ALLDAYEVENT:FALSE
SUMMARY:Smarter Senior Seminar Series
DESCRIPTION:What you should know about downsizing\n\nDiscussion and education to include challenges and solutions as you transition to your retirement residence. \n\nSpeakers will include:\n\n* Lenders for information regarding financing the move\n\n* Movers who will make the actual move go smoothly\n\n* An estate sales specialist & a real estate representation to tie it all together
X-ALT-DESC;FMTTYPE=text/html:<div style="text-align: center\;"><br />\n<br />\n<span style="font-size:16px\;"><strong>What you should know about downsizing</strong></span><br />\nDiscussion and education to include challenges and solutions as you transition to your retirement residence.&nbsp\;<br />\n<strong><span style="font-size:16px\;">Speakers will include:</span></strong><br />\n* Lenders for information regarding financing the move<br />\n* Movers who will make the actual move go smoothly<br />\n* An&nbsp\;estate sales specialist &amp\; a&nbsp\;real estate representation to tie it all together</div>\n
LOCATION:Russ Noyes Roofing Conference Center/Training Room 1095 Nursery Road Winter Springs\, FL 32708. *The location is just of US 17-92\, just northeast of SR 434.
UID:e.2138.6418
SEQUENCE:3
DTSTAMP:20260423T144357Z
URL:https://business.seminolebusiness.org/events/details/smarter-senior-seminar-series-6418
END:VEVENT

END:VCALENDAR
