BEGIN:VCALENDAR
VERSION:2.0
PRODID:-//ChamberMaster//Event Calendar 2.0//EN
METHOD:PUBLISH
X-PUBLISHED-TTL:P3D
REFRESH-INTERVAL:P3D
CALSCALE:GREGORIAN
BEGIN:VEVENT
DTSTART;VALUE=DATE:20250531
DTEND;VALUE=DATE:20250601
TRANSP:TRANSPARENT
X-MICROSOFT-CDO-ALLDAYEVENT:TRUE
SUMMARY:SMaSH Beer Festival
DESCRIPTION:The Florida SMaSH Beer Festival was created to celebrate the creativity and camaraderie of breweries in the Sunshine State & beyond! With a focus on giving back to our community.\n\nProceeds of the SMaSH festival are donated to A Spoon Full of Hope a product of Second Harvest Food Bank of Central Florida staging the perfect opportunity to feel good about your day drinking!\n\nEach brewery must concoct a beer made from the same single malt and single hop. This limitation forces brewers to think outside the box while focusing on innovative flavor\, outstanding quality\, and technique.\n\nWith roughly 80 beers to sample\, including one-offs from every brewery\, there will be something to please everyone.\n\n\n\nThis year we're also bringing out our friends from Mayhem on Mills for an exciting live performance.
X-ALT-DESC;FMTTYPE=text/html:<h2>The Florida SMaSH Beer Festival was created to celebrate the creativity and camaraderie of breweries in the Sunshine State &amp\; beyond! With a focus on giving back to our community.</h2>\n\n<h2>Proceeds of the SMaSH festival are donated to A Spoon Full of Hope a product of Second Harvest Food Bank of Central Florida staging the perfect opportunity to feel good about your day drinking!</h2>\n\n<h2>Each brewery must concoct a beer made from the same single malt and single hop. This limitation forces brewers to think outside the box while focusing on innovative flavor\, outstanding quality\, and technique.</h2>\n\n<h2>With roughly 80 beers to sample\, including one-offs from every brewery\, there will be something to please everyone.<br />\n<br />\nThis year we&#39\;re also bringing out our friends from Mayhem on Mills for an exciting live performance.</h2>\n
LOCATION:Reiter Park 311 W Warren Avenue Longwood\, FL 32750
UID:e.2138.36969
SEQUENCE:3
DTSTAMP:20260423T140116Z
URL:https://business.seminolebusiness.org/events/details/smash-beer-festival-36969
END:VEVENT

END:VCALENDAR
