BEGIN:VCALENDAR
VERSION:2.0
PRODID:-//ChamberMaster//Event Calendar 2.0//EN
METHOD:PUBLISH
X-PUBLISHED-TTL:P3D
REFRESH-INTERVAL:P3D
CALSCALE:GREGORIAN
BEGIN:VEVENT
DTSTART:20161217T190000Z
DTEND:20161217T230000Z
X-MICROSOFT-CDO-ALLDAYEVENT:FALSE
SUMMARY:SNOW FEST
DESCRIPTION:Celebrate winter at SNOW FEST! Enjoy Ice Skating\, REAL Snow\, Kids' Snow Slide\, Bounce Houses\, Face Painting and more! Meet your favorite Snow Queen and Ice Princess and Learn to Curl with the Orlando Curling Club!
X-ALT-DESC;FMTTYPE=text/html:Celebrate winter at SNOW FEST! Enjoy Ice Skating\, REAL Snow\, Kids&#39\; Snow Slide\, Bounce Houses\, Face Painting and more! Meet your favorite Snow Queen and Ice Princess and Learn to Curl with the Orlando Curling Club!
LOCATION:RDV Sportsplex Ice Den 8701 Maitland Summit Blvd. Orlando\, FL 32810
UID:e.2138.5749
SEQUENCE:3
DTSTAMP:20260425T132046Z
URL:https://business.seminolebusiness.org/events/details/snow-fest-5749
END:VEVENT

END:VCALENDAR
