BEGIN:VCALENDAR
VERSION:2.0
PRODID:-//ChamberMaster//Event Calendar 2.0//EN
METHOD:PUBLISH
X-PUBLISHED-TTL:P3D
REFRESH-INTERVAL:P3D
CALSCALE:GREGORIAN
BEGIN:VEVENT
DTSTART:20181115T230000Z
DTEND:20181116T000000Z
X-MICROSOFT-CDO-ALLDAYEVENT:FALSE
SUMMARY:Social Security and Your Retirement - CFE Federal Credit Union and MEMBERS Financial Services
DESCRIPTION:CFE Federal Credit Union members and non-members are invited to attend no-cost\, no-obligation seminar at our Lake Mary branch. MEMBERS Financial Services will be covering the topic of Social Security including rules for collecting benefits\, how spouses can coordinate benefits and recieve more\, and how Social Security can fit within your overall retirement income plan.\n\n\n\nAttendees must register for the seminar.
X-ALT-DESC;FMTTYPE=text/html:CFE Federal Credit Union members and non-members are invited to attend no-cost\, no-obligation seminar at our Lake Mary branch. MEMBERS Financial Services will be covering the topic of Social Security including rules for collecting benefits\, how spouses can coordinate benefits and recieve more\, and how Social Security can fit within your overall retirement income plan.<br />\n<br />\nAttendees must register for the seminar.
LOCATION:CFE Federal Credit Union - Lake Mary Branch 1000 Primera Blvd. Lake Mary\, FL 32746
UID:e.2138.14777
SEQUENCE:3
DTSTAMP:20260424T023611Z
URL:https://business.seminolebusiness.org/events/details/social-security-and-your-retirement-cfe-federal-credit-union-and-members-financial-services-14777
END:VEVENT

END:VCALENDAR
