BEGIN:VCALENDAR
VERSION:2.0
PRODID:-//ChamberMaster//Event Calendar 2.0//EN
METHOD:PUBLISH
X-PUBLISHED-TTL:P3D
REFRESH-INTERVAL:P3D
CALSCALE:GREGORIAN
BEGIN:VEVENT
DTSTART:20241010T210000Z
DTEND:20241010T233000Z
X-MICROSOFT-CDO-ALLDAYEVENT:FALSE
SUMMARY:Speaker Series: Isa Adney\, writer and documentary producer
DESCRIPTION:Seminole State Alumna Isa Adney ('07) is an award-winning writer and documentary producer who has conducted over 200 interviews and written 80+ long-form feature profiles and counting\, featuring many Oscar and Emmy-winning creatives\, artists and dreamers who've worked on projects such as Stranger Things\, Frozen\, Chef's Table and Hamilton. She returns to Seminole State to share how the College impacted her journey and to share her latest work\, The Little Book of Big Dreams.\n\n\n\nSpeaker Series is a free event that is open to the public.
X-ALT-DESC;FMTTYPE=text/html:Seminole State Alumna Isa Adney (&#39\;07) is an award-winning writer and documentary producer who has conducted over 200 interviews and written 80+ long-form feature profiles and counting\, featuring many Oscar and Emmy-winning creatives\, artists and dreamers who&rsquo\;ve worked on projects such as <em>Stranger Things</em>\, <em>Frozen</em>\, <em>Chef&rsquo\;s Table</em> and <em>Hamilton</em>. She returns to Seminole State to share how the College impacted her journey and to share her latest work\, The Little Book of Big Dreams.<br />\n<br />\nSpeaker Series is a free event that is open to the public.<br />\n&nbsp\;
LOCATION:Sanford/Lake Mary Campus Building C
UID:e.2138.35705
SEQUENCE:3
DTSTAMP:20260424T033228Z
URL:https://business.seminolebusiness.org/events/details/speaker-series-isa-adney-writer-and-documentary-producer-35705
END:VEVENT

END:VCALENDAR
