BEGIN:VCALENDAR
VERSION:2.0
PRODID:-//ChamberMaster//Event Calendar 2.0//EN
METHOD:PUBLISH
X-PUBLISHED-TTL:P3D
REFRESH-INTERVAL:P3D
CALSCALE:GREGORIAN
BEGIN:VEVENT
DTSTART:20180403T220000Z
DTEND:20180404T000000Z
X-MICROSOFT-CDO-ALLDAYEVENT:FALSE
SUMMARY:Special Needs Family Seminar
DESCRIPTION:Special Needs Family Seminar\, to be conducted by Attorney Mike Sonnenshine\, going over Basic Estate Planning for Special Needs Families. The event will also be attended by Special Needs Ability Program\, Inc (SNAP)\, and hosted by Cesar Hernandez at the New York Life office\, 495 N. Keller Rd Suite 150\, Maitland FL 32751. Families with Special Needs Children are encouraged to attend\, and learn the documentation that is highly recommended to be filed with the courts. They will also be presented with a checklist to ensure that your child will keep the standard of living the family plans.
X-ALT-DESC;FMTTYPE=text/html:Special Needs Family Seminar\, to be conducted by Attorney Mike Sonnenshine\, going over Basic Estate Planning for Special Needs Families. The event will also be attended by Special Needs Ability Program\, Inc (SNAP)\, and hosted by Cesar Hernandez at the New York Life office\, 495 N. Keller Rd Suite 150\, Maitland FL 32751. Families with Special Needs Children are encouraged to attend\, and learn the documentation that is highly recommended to be filed with the courts. They will also be presented with a checklist to ensure that your child will keep the standard of living the family plans.
LOCATION:New York Life 495 N Keller Rd Suite 150 Maitland FL 32751
UID:e.2138.8817
SEQUENCE:3
DTSTAMP:20260424T120125Z
URL:https://business.seminolebusiness.org/events/details/special-needs-family-seminar-8817
END:VEVENT

END:VCALENDAR
