BEGIN:VCALENDAR
VERSION:2.0
PRODID:-//ChamberMaster//Event Calendar 2.0//EN
METHOD:PUBLISH
X-PUBLISHED-TTL:P3D
REFRESH-INTERVAL:P3D
CALSCALE:GREGORIAN
BEGIN:VEVENT
DTSTART:20260731T153000Z
DTEND:20260731T180000Z
X-MICROSOFT-CDO-ALLDAYEVENT:FALSE
SUMMARY:Spider-Hero Character Themed Buffet Cruise Aboard the Barbara Lee
DESCRIPTION:Calling all heroes and villains! Join us for an action-packed 2-Hour Spider-Hero Themed Buffet Cruise sailing along the beautiful St. Johns River and Lake Monroe. This family-friendly adventure is perfect for superheroes of all ages!\n\n\n\n?? Boarding: 11:30 AM\n\n?? Cruising: 12:00 PM   2:00 PM\n\n\n\nStep aboard and enjoy:\n\n? All-You-Can-Eat Buffet\n\n? Reserved Table Seating\n\n? Climate-Controlled Dining Area\n\n? Full Bar Available for Purchase\n\n? Character Meet & Greet with Your Favorite Web-Slinging Hero\n\n? Access to Our Scenic Observation Decks\n\n\n\nWear your favorite superhero attire! Dress as your favorite hero or villain costumes are encouraged but not required. Whether you come ready to save the day or simply enjoy the view\, this cruise promises fun\, food\, and fantastic river scenery.\n\n\n\n?? $55 per Adult\n\n?? $30 per Child\n\n\n\n?? Tickets available at RivershipTix.com\n\n?? Or call our office at 321-441-3030\n\nIf tickets are unavailable online\, please call our office to check for additional availability.\n\n\n\nGather your super squad and join us for a spectacular day of dining\, adventure\, and heroic fun on the water!
X-ALT-DESC;FMTTYPE=text/html:Calling all heroes and villains! Join us for an action-packed 2-Hour Spider-Hero Themed Buffet Cruise sailing along the beautiful St. Johns River and Lake Monroe. This family-friendly adventure is perfect for superheroes of all ages!<br />\n<br />\n?? Boarding: 11:30 AM<br />\n?? Cruising: 12:00 PM &ndash\; 2:00 PM<br />\n<br />\nStep aboard and enjoy:<br />\n? All-You-Can-Eat Buffet<br />\n? Reserved Table Seating<br />\n? Climate-Controlled Dining Area<br />\n? Full Bar Available for Purchase<br />\n? Character Meet &amp\; Greet with Your Favorite Web-Slinging Hero<br />\n? Access to Our Scenic Observation Decks<br />\n<br />\nWear your favorite superhero attire! Dress as your favorite hero or villain&mdash\;costumes are encouraged but not required. Whether you come ready to save the day or simply enjoy the view\, this cruise promises fun\, food\, and fantastic river scenery.<br />\n<br />\n?? $55 per Adult<br />\n?? $30 per Child<br />\n<br />\n?? Tickets available at RivershipTix.com<br />\n?? Or call our office at 321-441-3030<br />\nIf tickets are unavailable online\, please call our office to check for additional availability.<br />\n<br />\nGather your super squad and join us for a spectacular day of dining\, adventure\, and heroic fun on the water!
LOCATION:St Johns Rivership Co 433 N Palmetto Ave Sanford\, Fl 32771 321-441-3030 Free parking
UID:e.2138.41896
SEQUENCE:3
DTSTAMP:20260422T121109Z
URL:https://business.seminolebusiness.org/events/details/spider-hero-character-themed-buffet-cruise-aboard-the-barbara-lee-41896
END:VEVENT

END:VCALENDAR
