BEGIN:VCALENDAR
VERSION:2.0
PRODID:-//ChamberMaster//Event Calendar 2.0//EN
METHOD:PUBLISH
X-PUBLISHED-TTL:P3D
REFRESH-INTERVAL:P3D
CALSCALE:GREGORIAN
BEGIN:VEVENT
DTSTART:20161029T180000Z
DTEND:20161029T204500Z
X-MICROSOFT-CDO-ALLDAYEVENT:FALSE
SUMMARY:SPOOKY SKATE!
DESCRIPTION:Celebrate Halloween on Ice! Enjoy ice skating\, trick-or-treating\, a costume contest and candy and fun for the whole family!
X-ALT-DESC;FMTTYPE=text/html:Celebrate Halloween on Ice! Enjoy ice skating\, trick-or-treating\, a costume contest and candy and fun for the whole family!
LOCATION:RDV Sportsplex Ice Den 8701 Maitland Summit Blvd. Orlando\, FL 32810
UID:e.2138.5109
SEQUENCE:3
DTSTAMP:20260425T164551Z
URL:https://business.seminolebusiness.org/events/details/spooky-skate-5109
END:VEVENT

END:VCALENDAR
