BEGIN:VCALENDAR
VERSION:2.0
PRODID:-//ChamberMaster//Event Calendar 2.0//EN
METHOD:PUBLISH
X-PUBLISHED-TTL:P3D
REFRESH-INTERVAL:P3D
CALSCALE:GREGORIAN
BEGIN:VEVENT
DTSTART:20180427T230000Z
DTEND:20180428T020000Z
X-MICROSOFT-CDO-ALLDAYEVENT:FALSE
SUMMARY:Spring Fever
DESCRIPTION:Join us at the Venue on the Lake - Maitland Civic Center for an evening of fun\, games\, food\, and drinks.  All proceeds will go toward our scholarship fund.   \n\n\n\nCurrently 52% of Arbor School students receive income based scholarships for an average of $7700 per student.   Join us and help us to continue to provide a top quality school for all students with disabilities.
X-ALT-DESC;FMTTYPE=text/html:Join us at the Venue on the Lake - Maitland Civic Center for an evening of fun\, games\, food\, and drinks.&nbsp\; All proceeds will go toward our scholarship fund.&nbsp\; &nbsp\;<br />\n<br />\nCurrently 52% of Arbor School students receive income based scholarships for an average of $7700 per student.&nbsp\; &nbsp\;Join us and help us to continue to provide a top quality school for all students with disabilities.
LOCATION:Venue on the Lake - Maitland Civic Center 641 South Maitland Maitland\, FL
UID:e.2138.8826
SEQUENCE:3
DTSTAMP:20260424T115942Z
URL:https://business.seminolebusiness.org/events/details/spring-fever-8826
END:VEVENT

END:VCALENDAR
