BEGIN:VCALENDAR
VERSION:2.0
PRODID:-//ChamberMaster//Event Calendar 2.0//EN
METHOD:PUBLISH
X-PUBLISHED-TTL:P3D
REFRESH-INTERVAL:P3D
CALSCALE:GREGORIAN
BEGIN:VEVENT
DTSTART:20170401T123000Z
DTEND:20170401T190000Z
X-MICROSOFT-CDO-ALLDAYEVENT:FALSE
SUMMARY:Spring Fling Plant Swap at the Central Florida Zoo
DESCRIPTION:Get down and dirty at the 2017 Spring Fling benefiting the Central Florida Zoo & Botanical Gardens!\n\n \n\nWe will be kicking off National Garden Month with our Spring Fling! Activities will include our wildly popular Plant Swap\, a vendor area featuring gardening supplies\, plants and more\, tours of the Zoo's Botanical and Destination Gardens\, and lots of opportunities to learn from experts and gardening enthusiasts\, all while supporting the Horticulture Department at the Zoo!\n\n\n\nThis event will be held rain or shine. The event will be at the Rainforest Pavilion. Look for the plastic pink flamingos! Admission to the Zoo is separate and not required to attend the event at the Rainforest Pavilion.\n\n\n\nRegistration and a fee of $10 are required for all those interested in swapping to reserve table space at the event. To participate in the swap\, please register here. \n\n\n\nPlant Swap Details: After checking in\, a volunteer will assist you in getting your swap items to your table. This is a good time to scope out a spot away from the tables where you can stash the plants you grab during the swap. Be sure to label all the plants you bring and include your name. All participants are responsible for negotiating their own swaps individually. It is up to you to determine the value of your items\, and trade with other participants accordingly. Plants\, cuttings\, seeds\, gardening tools and miscellaneous garden related items are all welcome at the swap. The only rule: NO invasive plants\, please. View a list of invasive plants here.\n\n\n\nVendors interested in attending should contact 407.323.4450 ext. 105\n\n\n\nEvent Schedule:\n\nVendor Check-in: 8:30 - 9:15 a.m.\n\nSwapper Check-in: 9:00 - 10:00 a.m.\n\nGreeting: 10:00 a.m.\n\nVendor Area open: 10:00 a.m. - 1:00 p.m.\n\nSwap Begins: 10:15 a.m.\n\nUniversity of Florida's Institute of Food and Agricultural Sciences Presentation: 10:30 a.m. to 11:30 a.m.\n\nDestination Garden Tour - 2:00 p.m. - 3:00 p.m. (Zoo admission required)
X-ALT-DESC;FMTTYPE=text/html:<h6 style="text-align:center"><span style="font-size:14px"><strong>Get down and dirty at the 2017 Spring Fling benefiting the Central Florida Zoo &amp\; Botanical Gardens!</strong></span><br />\n&nbsp\;</h6>\n\n<p>We will be kicking off National Garden Month with our Spring Fling! Activities will include our wildly popular Plant Swap\, a vendor area featuring gardening supplies\, plants and more\, tours of the Zoo&rsquo\;s Botanical and Destination Gardens\, and lots of opportunities to learn from experts and gardening enthusiasts\, all while supporting the Horticulture Department at the Zoo!<br />\n<br />\nThis event will be held rain or shine. The event will be at the Rainforest Pavilion. Look for the plastic pink flamingos! Admission to the Zoo is separate and not required to attend the event at the Rainforest Pavilion.<br />\n<br />\nRegistration and a fee of $10 are required for all those interested in swapping to reserve table space at the event. To participate in the swap\, please register&nbsp\;<a href="http://bit.ly/2lvRn3E" style="color: rgb(0\, 129\, 198)\; text-decoration: none\;">here</a>.&nbsp\;<br />\n<br />\nPlant Swap Details: After checking in\, a volunteer will assist you in getting your swap items to your table. This is a good time to scope out a spot away from the tables where you can stash the plants you grab during the swap. Be sure to label all the plants you bring and include your name. All participants are responsible for negotiating their own swaps individually. It is up to you to determine the value of your items\, and trade with other participants accordingly. Plants\, cuttings\, seeds\, gardening tools and miscellaneous garden related items are all welcome at the swap. The only rule:&nbsp\;<strong>NO&nbsp\;</strong>invasive plants\, please. View a list of invasive plants&nbsp\;<a href="http://bit.ly/2lCEAJt" style="color: rgb(0\, 129\, 198)\; text-decoration: none\;">here</a>.<br />\n<br />\nVendors interested in attending should contact 407.323.4450 ext. 105<br />\n<br />\n<u><strong>Event Schedule:</strong></u></p>\n\n<p>Vendor Check-in: 8:30 - 9:15 a.m.<br />\nSwapper Check-in: 9:00 - 10:00 a.m.<br />\nGreeting: 10:00 a.m.<br />\nVendor Area open: 10:00 a.m. - 1:00 p.m.<br />\nSwap Begins: 10:15 a.m.<br />\nUniversity of Florida&#39\;s Institute of Food and Agricultural Sciences Presentation: 10:30 a.m. to 11:30 a.m.<br />\nDestination Garden Tour - 2:00 p.m. - 3:00 p.m. (Zoo admission required)</p>\n
LOCATION:Central Florida Zoo & Botanical Gardens
UID:e.2138.6684
SEQUENCE:3
DTSTAMP:20260423T194020Z
URL:https://business.seminolebusiness.org/events/details/spring-fling-plant-swap-at-the-central-florida-zoo-6684
END:VEVENT

END:VCALENDAR
