BEGIN:VCALENDAR
VERSION:2.0
PRODID:-//ChamberMaster//Event Calendar 2.0//EN
METHOD:PUBLISH
X-PUBLISHED-TTL:P3D
REFRESH-INTERVAL:P3D
CALSCALE:GREGORIAN
BEGIN:VEVENT
DTSTART:20170506T210000Z
DTEND:20170507T210000Z
X-MICROSOFT-CDO-ALLDAYEVENT:FALSE
SUMMARY:Spring Spectacular Ice Show
DESCRIPTION:RDV Sportsplex Ice Den's annual spring ice show features skaters of all ages and skill levels! Performances are held at 5:00pm on Saturday\, May 6 and Sunday\, May 7. Tickets cost $9.00 per person ages 3 and up.
X-ALT-DESC;FMTTYPE=text/html:RDV Sportsplex Ice Den&#39\;s annual spring ice show features skaters of all ages and skill levels! Performances are held at 5:00pm on Saturday\, May 6 and Sunday\, May 7. Tickets cost $9.00 per person ages 3 and up.
LOCATION:RDV Sportsplex Ice Den 8701 Maitland Summit Blvd. Orlando\, FL 32810
UID:e.2138.6707
SEQUENCE:3
DTSTAMP:20260423T205851Z
URL:https://business.seminolebusiness.org/events/details/spring-spectacular-ice-show-6707
END:VEVENT

END:VCALENDAR
