BEGIN:VCALENDAR
VERSION:2.0
PRODID:-//ChamberMaster//Event Calendar 2.0//EN
METHOD:PUBLISH
X-PUBLISHED-TTL:P3D
REFRESH-INTERVAL:P3D
CALSCALE:GREGORIAN
BEGIN:VEVENT
DTSTART:20160430T210000Z
DTEND:20160501T210000Z
X-MICROSOFT-CDO-ALLDAYEVENT:FALSE
SUMMARY:Spring Spectacular On Ice
DESCRIPTION:Join us on Saturday\, April 30 and Sunday\, May 1 for our Spring Spectacular on Ice! Performances begin at 5:00pm both nights. Tickets cost $9.00 per person (ages 3+).
X-ALT-DESC;FMTTYPE=text/html:Join us on Saturday\, April 30 and Sunday\, May 1 for our Spring Spectacular on Ice! Performances begin at 5:00pm both nights. Tickets cost $9.00 per person (ages 3+).
LOCATION:RDV Sportsplex Ice Den - 8701 Maitland Summit Blvd. Orlando\, FL 32810
UID:e.2138.4379
SEQUENCE:3
DTSTAMP:20260426T000806Z
URL:https://business.seminolebusiness.org/events/details/spring-spectacular-on-ice-04-30-2016-4379
END:VEVENT

END:VCALENDAR
