BEGIN:VCALENDAR
VERSION:2.0
PRODID:-//ChamberMaster//Event Calendar 2.0//EN
METHOD:PUBLISH
X-PUBLISHED-TTL:P3D
REFRESH-INTERVAL:P3D
CALSCALE:GREGORIAN
BEGIN:VEVENT
DTSTART:20180519T150000Z
DTEND:20180519T190000Z
X-MICROSOFT-CDO-ALLDAYEVENT:FALSE
SUMMARY:Spring Thing Charity Event
DESCRIPTION:Please join us for a FREE family fun charity event to help Kid's House! The event starts at 11am and will include the Lake Mary fire department's fire truck for the kids to explore\, raffles for tons of awesome prizes\, food trucks\, vendors\, live music and more!
X-ALT-DESC;FMTTYPE=text/html:Please join us for a FREE family fun charity event to help Kid&#39\;s House! The event starts at 11am and will include the Lake Mary fire department&#39\;s fire truck for the kids to explore\, raffles for tons of awesome prizes\, food trucks\, vendors\, live music and more!
LOCATION:760 Currency Cir. Ste B Lake Mary FL 32746
UID:e.2138.8822
SEQUENCE:3
DTSTAMP:20260424T101752Z
URL:https://business.seminolebusiness.org/events/details/spring-thing-charity-event-8822
END:VEVENT

END:VCALENDAR
