BEGIN:VCALENDAR
VERSION:2.0
PRODID:-//ChamberMaster//Event Calendar 2.0//EN
METHOD:PUBLISH
X-PUBLISHED-TTL:P3D
REFRESH-INTERVAL:P3D
CALSCALE:GREGORIAN
BEGIN:VEVENT
DTSTART:20160324T210000Z
DTEND:20160325T000000Z
X-MICROSOFT-CDO-ALLDAYEVENT:FALSE
SUMMARY:Station House at Lake Mary Luxury Apartments - OPEN HOUSE!
DESCRIPTION:
X-ALT-DESC;FMTTYPE=text/html:
LOCATION:188 E. Crystal Lake Avenue
UID:e.2138.4374
SEQUENCE:3
DTSTAMP:20260426T031539Z
URL:https://business.seminolebusiness.org/events/details/station-house-at-lake-mary-luxury-apartments-open-house-03-24-2016-4374
END:VEVENT

END:VCALENDAR
