BEGIN:VCALENDAR
VERSION:2.0
PRODID:-//ChamberMaster//Event Calendar 2.0//EN
METHOD:PUBLISH
X-PUBLISHED-TTL:P3D
REFRESH-INTERVAL:P3D
CALSCALE:GREGORIAN
BEGIN:VEVENT
DTSTART:20160913T220000Z
DTEND:20160913T233000Z
X-MICROSOFT-CDO-ALLDAYEVENT:FALSE
SUMMARY:Staying Active and Avoiding Injuries Lecture\, Madison Robbins\, DPT
DESCRIPTION:Join one of Florida Hospital Sports Medicine and Rehab's therapists to learn how to prevent injuries and manage physical challenges that commonly occur with aging. RSVP required.\n\nWe're providing a variety of FREE screenings and lectures designed to make Oviedo 1 Healthy Community! In 1 convenient area\, the Florida Hospital Network of Care offers primary care and specialty physicians\, urgent care\, imaging services and physical therapy\, providing an array of prevention\, diagnosis and treatments for the body\, mind and spirit.\n\nFor full details and to reserve your spot\, visit FHEventsOviedo.com or call 407.200.2900.
X-ALT-DESC;FMTTYPE=text/html:Join one of Florida Hospital Sports Medicine and Rehab&rsquo\;s therapists&nbsp\;to learn how to prevent injuries and manage physical challenges that&nbsp\;commonly occur with aging. RSVP required.<br />\nWe&rsquo\;re providing a variety of FREE screenings and&nbsp\;lectures designed to make Oviedo 1 Healthy Community!&nbsp\;In 1 convenient area\, the Florida Hospital&nbsp\;Network of Care offers primary care and&nbsp\;specialty physicians\, urgent care\, imaging&nbsp\;services and physical therapy\, providing&nbsp\;an array of prevention\, diagnosis and&nbsp\;treatments for the body\, mind and spirit.<br />\nFor full details and to reserve your spot\, visit FHEventsOviedo.com or call 407.200.2900.
LOCATION:Cultural Center at Center Lake Park
UID:e.2138.4802
SEQUENCE:3
DTSTAMP:20260425T175828Z
URL:https://business.seminolebusiness.org/events/details/staying-active-and-avoiding-injuries-lecture-madison-robbins-dpt-09-13-2016-4802
END:VEVENT

END:VCALENDAR
