BEGIN:VCALENDAR
VERSION:2.0
PRODID:-//ChamberMaster//Event Calendar 2.0//EN
METHOD:PUBLISH
X-PUBLISHED-TTL:P3D
REFRESH-INTERVAL:P3D
CALSCALE:GREGORIAN
BEGIN:VEVENT
DTSTART:20190211T230000Z
DTEND:20190212T000000Z
X-MICROSOFT-CDO-ALLDAYEVENT:FALSE
SUMMARY:Stetson University - Educational Leadership Information Session
DESCRIPTION:Prospective Educational Leadership students will learn more about our M.Ed in Educational Leadership and our Modified Educational Leadership Certificate which are offered in DeLand or Celebration. This program is designed for current teachers with 2+ years of experience looking to pursue a career in educational leadership. This program will Enhance your knowledge of leadership\, curriculum development\, legal and financial aspects of school management and working effectively with linguistically\, culturally and racially diverse student populations. \n\n\n\nDurring this event\, students will get to meet with the admissions staff and current faculty to learn more about these programs. Application fee waivers can be earned by attending this event.\n\n\n\nRegister Here: https://admissions.stetson.edu/register/?id=57b12add-5b7f-43f0-b9ca-83a72f57ca15
X-ALT-DESC;FMTTYPE=text/html:<span style="font-size: 12px\;"><span style="font-family: arial\,helvetica\,sans-serif\;">Prospective Educational Leadership students will learn more about our M.Ed in Educational Leadership and our Modified Educational Leadership Certificate which are offered in DeLand or Celebration. This program is designed for current teachers with 2+ years of experience looking to pursue a career in educational leadership. This program will&nbsp\;Enhance your knowledge of leadership\, curriculum development\, legal and financial aspects of school management and working effectively with linguistically\, culturally and racially diverse student populations.&nbsp\;<br />\n<br />\nDurring this event\, students will get to meet with the admissions staff and current faculty to learn more about these programs. Application fee waivers can be earned by attending this event.<br />\n<br />\nRegister Here:&nbsp\;</span></span><a href="https://admissions.stetson.edu/register/?id=57b12add-5b7f-43f0-b9ca-83a72f57ca15" style="color: rgb(0\, 0\, 255)\; font-family: Tahoma\, Arial\, Helvetica\, sans-serif\; font-size: 12px\;" target="_blank">https://admissions.stetson.edu/register/?id=57b12add-5b7f-43f0-b9ca-83a72f57ca15</a>\n<div>&nbsp\;</div>\n
LOCATION:Stetson University Stetson's DeLand Campus - Rinker Welcome Center 421 N Woodland Blvd Deland\, FL 32723-8300 United States
UID:e.2138.14904
SEQUENCE:3
DTSTAMP:20260424T103331Z
URL:https://business.seminolebusiness.org/events/details/stetson-university-educational-leadership-information-session-14904
END:VEVENT

END:VCALENDAR
