BEGIN:VCALENDAR
VERSION:2.0
PRODID:-//ChamberMaster//Event Calendar 2.0//EN
METHOD:PUBLISH
X-PUBLISHED-TTL:P3D
REFRESH-INTERVAL:P3D
CALSCALE:GREGORIAN
BEGIN:VEVENT
DTSTART:20190220T210000Z
DTEND:20190220T220000Z
X-MICROSOFT-CDO-ALLDAYEVENT:FALSE
SUMMARY:Stetson University - Master of Fine Arts in Creative Writing LIVE Webinar
DESCRIPTION:Prospective MFA students will learn more about the experimental Master of Fine Arts in Creative Writing offered through Stetson University. Hear directly from our faculty about our low-residency MFA of the Americas. This program is perfect for those looking to expand and develop their creative practice by joinin a dynamic community of writers and artists. \n\n\n\nRegister for the free online webinar here: https://admissions.stetson.edu/register/?id=4fc98656-d01e-4503-9b07-c60ffd1e1440
X-ALT-DESC;FMTTYPE=text/html:<span style="color: rgb(0\, 0\, 0)\; font-family: arial\,verdana\,sans-serif\; font-size: 14px\;">Prospective MFA students will learn more about the experimental Master of Fine Arts in Creative Writing offered through Stetson University. Hear directly from our faculty about our low-residency MFA of the Americas. This program is perfect for those looking to expand and develop their creative practice by joinin a dynamic community of writers and artists.&nbsp\;<br />\n<br />\nRegister for the free online webinar here:&nbsp\;</span><a href="https://admissions.stetson.edu/register/?id=4fc98656-d01e-4503-9b07-c60ffd1e1440" style="color: rgb(0\, 0\, 255)\; font-family: Tahoma\, Arial\, Helvetica\, sans-serif\; font-size: 12px\;" target="_blank">https://admissions.stetson.edu/register/?id=4fc98656-d01e-4503-9b07-c60ffd1e1440</a>\n<div>&nbsp\;</div>\n
LOCATION:Online Webinar
UID:e.2138.14902
SEQUENCE:3
DTSTAMP:20260422T130249Z
URL:https://business.seminolebusiness.org/events/details/stetson-university-master-of-fine-arts-in-creative-writing-live-webinar-02-20-2019-14902
END:VEVENT

END:VCALENDAR
