BEGIN:VCALENDAR
VERSION:2.0
PRODID:-//ChamberMaster//Event Calendar 2.0//EN
METHOD:PUBLISH
X-PUBLISHED-TTL:P3D
REFRESH-INTERVAL:P3D
CALSCALE:GREGORIAN
BEGIN:VEVENT
DTSTART:20190131T000000Z
DTEND:20190131T010000Z
X-MICROSOFT-CDO-ALLDAYEVENT:FALSE
SUMMARY:Stetson University - Master of Fine Arts in Creative Writing LIVE Webinar
DESCRIPTION:Prospective MFA students will learn more about the experimental Master of Fine Arts in Creative Writing offered through Stetson University. Hear directly from our faculty about our low-residency MFA of the Americas. This program is perfect for those looking to expand and develop their creative practice by joinin a dynamic community of writers and artists. \n\n\n\nRegister for the free online webinar here:\n \n\n\n\n	\n		\n			https://admissions.stetson.edu/register/?id=ab73ae2f-f67e-437a-815f-4e2952488088
X-ALT-DESC;FMTTYPE=text/html:<span style="color: rgb(0\, 0\, 0)\; font-family: arial\,verdana\,sans-serif\; font-size: 14px\;">Prospective MFA students will learn more about the experimental Master of Fine Arts in Creative Writing offered through Stetson University. Hear directly from our faculty about our low-residency MFA of the Americas. This program is perfect for those looking to expand and develop their creative practice by joinin a dynamic community of writers and artists.&nbsp\;<br />\n<br />\nRegister for the free online webinar here:</span>\n<div>&nbsp\;</div>\n\n<div>\n<table class="plain" style="border-color: rgb(186\, 200\, 224)\; width: 850px\; color: rgb(51\, 51\, 51)\; clear: both\; font-family: tahoma\,arial\,helvetica\,sans-serif\; font-size: 12px\; border-collapse: collapse\; table-layout: fixed\; border-spacing: 0px\;">\n	<tbody>\n		<tr>\n			<td style="border-color: rgb(186\, 200\, 224)\;"><a href="https://admissions.stetson.edu/register/?id=ab73ae2f-f67e-437a-815f-4e2952488088" style="color: rgb(0\, 0\, 255)\;" target="_blank">https://admissions.stetson.edu/register/?id=ab73ae2f-f67e-437a-815f-4e2952488088</a></td>\n		</tr>\n	</tbody>\n</table>\n</div>\n
LOCATION:Online Webinar
UID:e.2138.14901
SEQUENCE:3
DTSTAMP:20260423T214509Z
URL:https://business.seminolebusiness.org/events/details/stetson-university-master-of-fine-arts-in-creative-writing-live-webinar-14901
END:VEVENT

END:VCALENDAR
