BEGIN:VCALENDAR
VERSION:2.0
PRODID:-//ChamberMaster//Event Calendar 2.0//EN
METHOD:PUBLISH
X-PUBLISHED-TTL:P3D
REFRESH-INTERVAL:P3D
CALSCALE:GREGORIAN
BEGIN:VEVENT
DTSTART:20190919T220000Z
DTEND:20190919T230000Z
X-MICROSOFT-CDO-ALLDAYEVENT:FALSE
SUMMARY:Stetson University - MBA Information session
DESCRIPTION:Prospective MBA Candidates will learn more about the Master of Business Administration program from the Assistant Director of Graduate Admissions for Business Programs. Alumni and current students may be available for networking purposes and to share their personal experiences. Come learn how Stetson aligns with your professional goals.
X-ALT-DESC;FMTTYPE=text/html:<span style="color:rgb(0\, 0\, 0)\; font-family:arial\,verdana\,sans-serif\; font-size:14px">Prospective MBA Candidates will learn more about the Master of Business Administration program from the Assistant Director of Graduate Admissions for Business Programs. Alumni and current students may be available for networking purposes and to share their personal experiences. Come learn how Stetson aligns with your professional goals.</span><br />\n<br />\n&nbsp\;
LOCATION:Stetson University Marshall & Vera Lea Rinker Welcome Center 421 N. Woodland Blvd. DeLand\, FL 32723
UID:e.2138.16552
SEQUENCE:3
DTSTAMP:20260422T021530Z
URL:https://business.seminolebusiness.org/events/details/stetson-university-mba-information-session-09-19-2019-16552
END:VEVENT

END:VCALENDAR
