BEGIN:VCALENDAR
VERSION:2.0
PRODID:-//ChamberMaster//Event Calendar 2.0//EN
METHOD:PUBLISH
X-PUBLISHED-TTL:P3D
REFRESH-INTERVAL:P3D
CALSCALE:GREGORIAN
BEGIN:VEVENT
DTSTART:20190611T163000Z
DTEND:20190611T173000Z
X-MICROSOFT-CDO-ALLDAYEVENT:FALSE
SUMMARY:Stetson University - MBA Virtual Webinar
DESCRIPTION:Learn more about the Stetson MBA program from the convenience of your home or workplace by joining our virtual information session online. Interact online with staff and learn how the Stetson MBA can prepare you for future success. We will explore program information as well as the application process.\n\n\n\n\n\n*You will have the opportunity to type in questions during the presentation. Please log in at 12:30pm (EST) so the session can begin on time.\n\n\n\nRegister here - https://admissions.stetson.edu/register/?id=cbec488d-7302-4b84-a13f-fb473ca101e9&_ga=2.258815502.547528770.1546959893-400557282.1473800453
X-ALT-DESC;FMTTYPE=text/html:<span style="color:black"><span style="font-family:arial\,sans-serif"><span style="font-size:10.5pt">Learn more about the Stetson MBA program from the convenience of your home or workplace by joining our virtual information session online. Interact online with staff and learn how the Stetson MBA can prepare you for future success. We will explore program information as well as the application process.</span></span></span><br />\n<br />\n<br />\n<span style="color:black"><span style="font-family:arial\,sans-serif"><span style="font-size:10.5pt">*You will have the opportunity to type in questions during the presentation.&nbsp\;Please log in at 12:30pm (EST) so the session can begin on time.<br />\n<br />\nRegister here - </span></span></span>https://admissions.stetson.edu/register/?id=cbec488d-7302-4b84-a13f-fb473ca101e9&amp\;_ga=2.258815502.547528770.1546959893-400557282.1473800453<br />\n<br />\n&nbsp\;
LOCATION:Online
UID:e.2138.14855
SEQUENCE:3
DTSTAMP:20260422T063113Z
URL:https://business.seminolebusiness.org/events/details/stetson-university-mba-virtual-webinar-06-11-2019-14855
END:VEVENT

END:VCALENDAR
